BEGIN:VCALENDAR
VERSION:2.0
PRODID:-//NADI Felda Mempaga 3 - ECPv6.15.13.1//NONSGML v1.0//EN
CALSCALE:GREGORIAN
METHOD:PUBLISH
X-WR-CALNAME:NADI Felda Mempaga 3
X-ORIGINAL-URL:https://feldamempaga3.nadi.my
X-WR-CALDESC:Events for NADI Felda Mempaga 3
REFRESH-INTERVAL;VALUE=DURATION:PT1H
X-Robots-Tag:noindex
X-PUBLISHED-TTL:PT1H
BEGIN:VTIMEZONE
TZID:Asia/Kuala_Lumpur
BEGIN:STANDARD
TZOFFSETFROM:+0800
TZOFFSETTO:+0800
TZNAME:+08
DTSTART:20240101T000000
END:STANDARD
END:VTIMEZONE
BEGIN:VTIMEZONE
TZID:UTC
BEGIN:STANDARD
TZOFFSETFROM:+0000
TZOFFSETTO:+0000
TZNAME:UTC
DTSTART:20240101T000000
END:STANDARD
END:VTIMEZONE
BEGIN:VEVENT
DTSTART;TZID=Asia/Kuala_Lumpur:20251205T090000
DTEND;TZID=Asia/Kuala_Lumpur:20251207T180000
DTSTAMP:20260420T164251
CREATED:20251203T094213Z
LAST-MODIFIED:20251203T094213Z
UID:4022-1764925200-1765130400@feldamempaga3.nadi.my
SUMMARY:Kelas Kesedaran E-sukan : Anti buli & Etika Komuniti
DESCRIPTION:Kelas Kesedaran E-sukan : Anti buli & Etika Komuniti \nTarikh : \nMasa : \nTempat : LMS E-Sukan \nKategori : Terbuka kepada ahli NADI
URL:https://feldamempaga3.nadi.my/event/kelas-kesedaran-e-sukan-anti-buli-etika-komuniti/
LOCATION:NADI Felda Mempaga 3\, NADI Felda Mempaga 3
END:VEVENT
BEGIN:VEVENT
DTSTART;TZID=Asia/Kuala_Lumpur:20251204T030000
DTEND;TZID=Asia/Kuala_Lumpur:20251204T163000
DTSTAMP:20260420T164251
CREATED:20251203T094912Z
LAST-MODIFIED:20251203T095014Z
UID:4027-1764817200-1764865800@feldamempaga3.nadi.my
SUMMARY:Cybersecurity - Ancaman Kamera Tersembunyi\, Apa Yang Perlu Anda Tahu
DESCRIPTION:[WEBINAR DECEMBER NADI x CYBERSECURITY]\nANCAMAN KAMERA TERSEMBUNYI\, APA YANG PERLU ANDA TAHU \n📅 4 Disember 2025 (Khamis)\n🕒 3:00 PM – 4:30 PM\n💻 Platform: Zoom\n🔗 Pautan Pendaftaran: cybersecurity.nadi.my (untuk ahli NADI sahaja) \n📌 Apa yang akan dipelajari?\n“Dalam webinar ini\, peserta akan mempelajari cara mengenal pasti kewujudan kamera tersembunyi\, memahami risiko keselamatan dan privasi yang berkaitan\, serta mengetahui langkah pencegahan dan tindakan yang boleh diambil untuk melindungi diri daripada pemantauan tanpa kebenaran.”\n📢 Sasaran: Belia\,Umum \n🛡 “““Belajar mengesan sebelum menjadi mangsa.”.”.”
URL:https://feldamempaga3.nadi.my/event/cybersecurity-ancaman-kamera-tersembunyi-apa-yang-perlu-anda-tahu/
LOCATION:NADI Felda Mempaga 3\, NADI Felda Mempaga 3
END:VEVENT
BEGIN:VEVENT
DTSTART;TZID=Asia/Kuala_Lumpur:20251201T033000
DTEND;TZID=Asia/Kuala_Lumpur:20251204T163000
DTSTAMP:20260420T164251
CREATED:20251203T094509Z
LAST-MODIFIED:20251203T094509Z
UID:4024-1764559800-1764865800@feldamempaga3.nadi.my
SUMMARY:Open Tuition Dilea F1-F5
DESCRIPTION:Open Tuition Dilea F1-F5 \nTarikh : 01 – 04/12/2025 \nMasa : 3\,30-4.30PM \nTempat : Online – LMS Dilea \nKategori : Pelajar Sekolah Menengah
URL:https://feldamempaga3.nadi.my/event/open-tuition-dilea-f1-f5/
LOCATION:NADI Felda Mempaga 3\, NADI Felda Mempaga 3
END:VEVENT
BEGIN:VEVENT
DTSTART;TZID=Asia/Kuala_Lumpur:20251118T103000
DTEND;TZID=Asia/Kuala_Lumpur:20251118T233000
DTSTAMP:20260420T164251
CREATED:20251117T041313Z
LAST-MODIFIED:20251117T041313Z
UID:3950-1763461800-1763508600@feldamempaga3.nadi.my
SUMMARY:Wellbeing - Webinar Nafas Semakin Pendek ?
DESCRIPTION:
URL:https://feldamempaga3.nadi.my/event/wellbeing-webinar-nafas-semakin-pendek/
END:VEVENT
BEGIN:VEVENT
DTSTART;TZID=Asia/Kuala_Lumpur:20251118T100000
DTEND;TZID=Asia/Kuala_Lumpur:20251118T150000
DTSTAMP:20260420T164251
CREATED:20251117T041859Z
LAST-MODIFIED:20251117T041859Z
UID:3954-1763460000-1763478000@feldamempaga3.nadi.my
SUMMARY:E-Kelas Modul 1 & 2
DESCRIPTION:Modul 1: Strategi Pemasaran Digital\nTarikh: Selasa\, 18 November 2025\nMasa: 10:00 pagi – 11:00 pagi\nLokasi: Zoom\nPautan Pendaftaran Webinar: bit.ly/eku181125am \nModul 2: Asas Visual Komunikasi\nTarikh: Selasa\, 18 November 2025\nMasa: 2:00 petang – 3:00 petang\nLokasi: Zoom\nPautan Pendaftaran Webinar: bit.ly/eku181125pm
URL:https://feldamempaga3.nadi.my/event/e-kelas-modul-1-2/
LOCATION:NADI Felda Mempaga 3\, NADI Felda Mempaga 3
END:VEVENT
BEGIN:VEVENT
DTSTART;TZID=Asia/Kuala_Lumpur:20251118T100000
DTEND;TZID=Asia/Kuala_Lumpur:20251118T120000
DTSTAMP:20260420T164251
CREATED:20251117T041541Z
LAST-MODIFIED:20251117T041541Z
UID:3952-1763460000-1763467200@feldamempaga3.nadi.my
SUMMARY:Empowher
DESCRIPTION:Cohort 6 : Podcast Pekerja Power Syarikat Super
URL:https://feldamempaga3.nadi.my/event/empowher/
LOCATION:NADI Felda Mempaga 3\, NADI Felda Mempaga 3
END:VEVENT
BEGIN:VEVENT
DTSTART;TZID=Asia/Kuala_Lumpur:20251118T033000
DTEND;TZID=Asia/Kuala_Lumpur:20251118T163000
DTSTAMP:20260420T164251
CREATED:20251117T041024Z
LAST-MODIFIED:20251117T041057Z
UID:3947-1763436600-1763483400@feldamempaga3.nadi.my
SUMMARY:Open Tuition Bahasa Inggeris F1-F5
DESCRIPTION:
URL:https://feldamempaga3.nadi.my/event/open-tuition-bahasa-inggeris-f1-f5/
LOCATION:NADI Felda Mempaga 3\, NADI Felda Mempaga 3
END:VEVENT
BEGIN:VEVENT
DTSTART;TZID=Asia/Kuala_Lumpur:20251117T150000
DTEND;TZID=Asia/Kuala_Lumpur:20251117T163000
DTSTAMP:20260420T164251
CREATED:20251117T040426Z
LAST-MODIFIED:20251117T040907Z
UID:3939-1763391600-1763397000@feldamempaga3.nadi.my
SUMMARY:Kelas Mahir Foto
DESCRIPTION:
URL:https://feldamempaga3.nadi.my/event/kelas-mahir-foto/
LOCATION:NADI Felda Mempaga 3\, NADI Felda Mempaga 3
END:VEVENT
BEGIN:VEVENT
DTSTART;TZID=Asia/Kuala_Lumpur:20251117T093000
DTEND;TZID=Asia/Kuala_Lumpur:20251117T230000
DTSTAMP:20260420T164251
CREATED:20251117T040306Z
LAST-MODIFIED:20251117T040846Z
UID:3936-1763371800-1763420400@feldamempaga3.nadi.my
SUMMARY:Kelas Mahir Jahit
DESCRIPTION:Kelas Mahir Jahit Pengambilan 2
URL:https://feldamempaga3.nadi.my/event/kelas-mahir-jahit/
LOCATION:NADI Felda Mempaga 3\, NADI Felda Mempaga 3
END:VEVENT
BEGIN:VEVENT
DTSTART;TZID=Asia/Kuala_Lumpur:20251117T090000
DTEND;TZID=Asia/Kuala_Lumpur:20251117T180000
DTSTAMP:20260420T164251
CREATED:20251117T040711Z
LAST-MODIFIED:20251117T040808Z
UID:3941-1763370000-1763402400@feldamempaga3.nadi.my
SUMMARY:Kidventure (Usahawan Cilik)
DESCRIPTION:Cohort 7 : Video Pemasaran & Operasi Perniagaan \n  \nCohort 8 : Pendaftaran & Tontonan Video Pra-Latihan
URL:https://feldamempaga3.nadi.my/event/kidventure/
LOCATION:NADI Felda Mempaga 3\, NADI Felda Mempaga 3
END:VEVENT
BEGIN:VEVENT
DTSTART;TZID=Asia/Kuala_Lumpur:20251117T033000
DTEND;TZID=Asia/Kuala_Lumpur:20251117T163000
DTSTAMP:20260420T164251
CREATED:20251117T040020Z
LAST-MODIFIED:20251117T040751Z
UID:3931-1763350200-1763397000@feldamempaga3.nadi.my
SUMMARY:DILEA Open Tuition Matematik F1-F5
DESCRIPTION:
URL:https://feldamempaga3.nadi.my/event/dilea-open-tuition-matematik-f1-f5/
END:VEVENT
BEGIN:VEVENT
DTSTART;TZID=Asia/Kuala_Lumpur:20250907T100000
DTEND;TZID=Asia/Kuala_Lumpur:20250907T160000
DTSTAMP:20260420T164251
CREATED:20250904T093504Z
LAST-MODIFIED:20250905T122553Z
UID:3738-1757239200-1757260800@feldamempaga3.nadi.my
SUMMARY:Program Khas Sempena Merdeka & Hari Malaysia @ NADI
DESCRIPTION:🎉 Program Khas Merdeka & Hari Malaysia @ NADI 🎉 \nJom ramai-ramai datang ke NADI Felda Mempaga 3 untuk sambutan istimewa sempena Hari Merdeka & Hari Malaysia @ NADI \n📅 Tarikh: 7 September 2025 (September)\n🕙 Masa: 10.00 pagi – 4.00 petang\n📍 Lokasi: NADI Felda Mempaga 3\, Pusat Rekreasi Felda Mempaga 3\, 28600 Karak\, Pahang Darul Makmur\, \nAntara aktiviti menarik yang menanti anda:\n✅ Pertandingan Mewarna Merdeka\n✅ Pertandingan Busana Merdeka\n✅ Jualan Produk Usahawan NADI\n✅ Tayangan Video Patriotik\n✅ Cabutan Bertuah\n✅ Kuiz Merdeka \n  \nJangan lepaskan peluang untuk bersama-sama kita meriahkan sambutan ini! \n#NADIMCMC #MerdekaDiNADI
URL:https://feldamempaga3.nadi.my/event/program-khas-sempena-merdeka-hari-malaysia-nadi/
LOCATION:NADI Felda Mempaga 3\, NADI Felda Mempaga 3
END:VEVENT
BEGIN:VEVENT
DTSTART;TZID=Asia/Kuala_Lumpur:20250612T100000
DTEND;TZID=Asia/Kuala_Lumpur:20250612T160000
DTSTAMP:20260420T164251
CREATED:20250612T034414Z
LAST-MODIFIED:20250612T034414Z
UID:3496-1749722400-1749744000@feldamempaga3.nadi.my
SUMMARY:Pemeriksaan Kesihatan Percuma
DESCRIPTION:PEMERIKSAAN KESIHATAN PERCUMA \n📍 NADI FELDA MEMPAGA 3\n📅 12 JUN 2025 (Khamis)\n⏰ 10.00 pagi – 4.00 petang \nKesihatan adalah kekayaan! Ayuh ambil peluang untuk semak tahap kesihatan anda secara PERCUMA bersama kami! \n✅ Pemeriksaan Tekanan Darah\n✅ Pemeriksaan Gula dalam Darah\n✅ Pemeriksaan BMI (Tinggi & Berat) \n📌 PENTING: Jangan lupa bawa kad pengenalan (IC) untuk pendaftaran. \n💚 Sesuai untuk semua peringkat umur. Datang beramai-ramai bersama keluarga dan rakan-rakan!
URL:https://feldamempaga3.nadi.my/event/pemeriksaan-kesihatan-percuma/
LOCATION:NADI Felda Mempaga 3\, NADI Felda Mempaga 3
END:VEVENT
BEGIN:VEVENT
DTSTART;TZID=Asia/Kuala_Lumpur:20250525T100000
DTEND;TZID=Asia/Kuala_Lumpur:20250525T120000
DTSTAMP:20260420T164251
CREATED:20250507T091523Z
LAST-MODIFIED:20250507T091523Z
UID:3429-1748167200-1748174400@feldamempaga3.nadi.my
SUMMARY:Program Mentor Tiny Techies (Sesi 5)
DESCRIPTION:Program Mentor Tiny Techies (Sesi 5) \nTarikh : 25 Mei 2025 (Ahad) \nMasa : 10.00 pagi – 12.00 tengahari \nPeserta : Pelajar Sekolah Rendah & Menengah \nTempat : Google Meet \n 
URL:https://feldamempaga3.nadi.my/event/program-mentor-tiny-techies-sesi-5/
LOCATION:NADI Felda Mempaga 3\, NADI Felda Mempaga 3
END:VEVENT
BEGIN:VEVENT
DTSTART;TZID=Asia/Kuala_Lumpur:20250518T100000
DTEND;TZID=Asia/Kuala_Lumpur:20250518T120000
DTSTAMP:20260420T164251
CREATED:20250507T091415Z
LAST-MODIFIED:20250507T091604Z
UID:3427-1747562400-1747569600@feldamempaga3.nadi.my
SUMMARY:Program Mentor Tiny Techies (Sesi 4)
DESCRIPTION:Program Mentor Tiny Techies (Sesi 4) \nTarikh : 18 Mei 2025 (Ahad) \nMasa : 10.00 pagi – 12.00 tengahari \nPeserta : Pelajar Sekolah Rendah & Menengah \nTempat : Google Meet \n 
URL:https://feldamempaga3.nadi.my/event/program-mentor-tiny-techies/
END:VEVENT
BEGIN:VEVENT
DTSTART;TZID=Asia/Kuala_Lumpur:20250510T100000
DTEND;TZID=Asia/Kuala_Lumpur:20250510T233000
DTSTAMP:20260420T164251
CREATED:20250507T090532Z
LAST-MODIFIED:20250507T090532Z
UID:3425-1746871200-1746919800@feldamempaga3.nadi.my
SUMMARY:Cybersecurity : Perlindungan Siber Dan Ancaman Penggodam
DESCRIPTION:Tajuk ini mencerminkan kandungan webinar dengan memberi gambaran menyeluruh tentang konsep asas keselamatan siber\, cabaran yang dihadapi\, serta peranan hacker termasuk ethical hacking dan penetration testing. \n  \n📅 Hari: Sabtu\n📆 Tarikh: 10 May 2025\n🕞 Masa: 10.00 pagi – 11.30 pagi\n💻 Platform: Zoom
URL:https://feldamempaga3.nadi.my/event/cybersecurity-perlindungan-siber-dan-ancaman-penggodam/
LOCATION:NADI Felda Mempaga 3\, NADI Felda Mempaga 3
END:VEVENT
BEGIN:VEVENT
DTSTART;TZID=Asia/Kuala_Lumpur:20250510T100000
DTEND;TZID=Asia/Kuala_Lumpur:20250510T120000
DTSTAMP:20260420T164251
CREATED:20250506T075959Z
LAST-MODIFIED:20250506T082444Z
UID:3422-1746871200-1746878400@feldamempaga3.nadi.my
SUMMARY:Kelas Asas Komputer
DESCRIPTION:Kelas Asas Komputer \nHari : Setiap Sabtu \nMasa : 10.00 pagi – 12.00 tengahari \nPeserta : Pelajar Sekolah \nModul 1 : Microsoft Word\, Excel\, Power Point dan Publisher \n  \nKelas adalah percuma kepada semua ahli NADI Felda Mempaga 3. \n(Terhad kepada 10 orang peserta sahaja bagi setiap sesi)
URL:https://feldamempaga3.nadi.my/event/kelas-asas-komputer-ict-stem-iot-38/
LOCATION:NADI Felda Mempaga 3\, NADI Felda Mempaga 3
END:VEVENT
BEGIN:VEVENT
DTSTART;TZID=Asia/Kuala_Lumpur:20250323T100000
DTEND;TZID=Asia/Kuala_Lumpur:20250323T120000
DTSTAMP:20260420T164251
CREATED:20250314T092122Z
LAST-MODIFIED:20250314T092122Z
UID:3273-1742724000-1742731200@feldamempaga3.nadi.my
SUMMARY:Kelas E-Pembelajaran / Softskill
DESCRIPTION:Masa : 10.00 pagi – 12.00 tengahari \nPeserta : Pelajar Sekolah \nModul 1 : Laman web pembelajaran interaktif\, kuiz online dan permainan online.\nModul 2 : Softskill\nModul 3 : Taklimat Klik Dengan Bijak dan tayangan video \nKelas adalah percuma kepada semua ahli NADI Felda Mempaga 3. \n(Terhad kepada 10 orang peserta sahaja bagi setiap sesi)
URL:https://feldamempaga3.nadi.my/event/kelas-e-pembelajaran-softskill/
LOCATION:NADI Felda Mempaga 3\, NADI Felda Mempaga 3
END:VEVENT
BEGIN:VEVENT
DTSTART;TZID=Asia/Kuala_Lumpur:20250322T100000
DTEND;TZID=Asia/Kuala_Lumpur:20250322T120000
DTSTAMP:20260420T164251
CREATED:20250314T091931Z
LAST-MODIFIED:20250314T091931Z
UID:3271-1742637600-1742644800@feldamempaga3.nadi.my
SUMMARY:Kelas Asas Komputer / ICT / Stem IOT
DESCRIPTION:Masa : 10.00 pagi – 12.00 tengahari \nPeserta : Pelajar Sekolah \nModul 1 : Microsoft Word\, Excel\, Power Point dan Publisher \nModul 2 : STEM IoT \nKelas adalah percuma kepada semua ahli NADI Felda Mempaga 3. \n(Terhad kepada 10 orang peserta sahaja bagi setiap sesi)
URL:https://feldamempaga3.nadi.my/event/kelas-asas-komputer-ict-stem-iot-37/
LOCATION:NADI Felda Mempaga 3\, NADI Felda Mempaga 3
END:VEVENT
BEGIN:VEVENT
DTSTART;TZID=Asia/Kuala_Lumpur:20250315T030000
DTEND;TZID=Asia/Kuala_Lumpur:20250315T170000
DTSTAMP:20260420T164251
CREATED:20250314T083107Z
LAST-MODIFIED:20250314T083107Z
UID:3269-1742007600-1742058000@feldamempaga3.nadi.my
SUMMARY:Pertandingan E-Sport Mobile Legend Bang Bang Peringkat NADI
DESCRIPTION:Pertandingan E-Sport Mobile Legend Bang Bang Peringkat NADI. \nKumpulan yang akan berentap adalah :- \n1-King Empire\n2-The Villain Squad\n3-Wadidaww\n4-Lucky’s
URL:https://feldamempaga3.nadi.my/event/pertandingan-e-sport-mobile-legend-bang-bang-peringkat-nadi/
LOCATION:NADI Felda Mempaga 3\, NADI Felda Mempaga 3
END:VEVENT
BEGIN:VEVENT
DTSTART;TZID=Asia/Kuala_Lumpur:20250309T100000
DTEND;TZID=Asia/Kuala_Lumpur:20250309T120000
DTSTAMP:20260420T164251
CREATED:20250225T101031Z
LAST-MODIFIED:20250225T101031Z
UID:3249-1741514400-1741521600@feldamempaga3.nadi.my
SUMMARY:Kelas E-Pembelajaran / Softskill / KDB
DESCRIPTION:Kelas E-Pembelajaran / Softskill / KDB \nHari : Setiap Ahad \nMasa : 10.00 pagi – 12.00 tengahari \nPeserta : Pelajar Sekolah \nModul 1 : Laman web pembelajaran interaktif\, kuiz online dan permainan online.\nModul 2 : Softskill\nModul 3 : Taklimat Klik Dengan Bijak dan tayangan video \nKelas adalah percuma kepada semua ahli NADI Felda Mempaga 3. \n(Terhad kepada 10 orang peserta sahaja bagi setiap sesi)
URL:https://feldamempaga3.nadi.my/event/kelas-e-pembelajaran-softskill-kdb-36/
LOCATION:NADI Felda Mempaga 3\, NADI Felda Mempaga 3
CATEGORIES:DEFAULT
END:VEVENT
BEGIN:VEVENT
DTSTART;TZID=Asia/Kuala_Lumpur:20250308T100000
DTEND;TZID=Asia/Kuala_Lumpur:20250308T120000
DTSTAMP:20260420T164251
CREATED:20250225T100934Z
LAST-MODIFIED:20250225T100934Z
UID:3247-1741428000-1741435200@feldamempaga3.nadi.my
SUMMARY:Kelas Asas Komputer / ICT / Stem IOT
DESCRIPTION:Kelas Asas Komputer / ICT / Stem IOT \nHari : Setiap Sabtu \nMasa : 10.00 pagi – 12.00 tengahari \nPeserta : Pelajar Sekolah \nModul 1 : Microsoft Word\, Excel\, Power Point dan Publisher \nModul 2 : STEM IoT \nKelas adalah percuma kepada semua ahli NADI Felda Mempaga 3. \n(Terhad kepada 10 orang peserta sahaja bagi setiap sesi)
URL:https://feldamempaga3.nadi.my/event/kelas-asas-komputer-ict-stem-iot-36/
LOCATION:NADI Felda Mempaga 3\, NADI Felda Mempaga 3
CATEGORIES:DEFAULT
END:VEVENT
BEGIN:VEVENT
DTSTART;TZID=UTC:20250214T093000
DTEND;TZID=UTC:20250214T120000
DTSTAMP:20260420T164251
CREATED:20250204T193700Z
LAST-MODIFIED:20250225T100823Z
UID:3193-1739525400-1739534400@feldamempaga3.nadi.my
SUMMARY:Kelas Keusahawanan
DESCRIPTION:Kelas Keusahawanan \nHari : Setiap Jumaat \nMasa : 9.30 pagi – 12.00 tengahari \nPeserta : Usahawan \nModul : Shopee\, Facebook\, Instagram\, Email\, Perbankan Internet dll. \nKelas adalah percuma kepada semua ahli NADI Felda Mempaga 3. \n(Terhad kepada 10 orang peserta sahaja bagi setiap sesi) \n 
URL:https://feldamempaga3.nadi.my/event/kelas-keusahawanan-193/
LOCATION:NADI Felda Mempaga 3\, NADI Felda Mempaga 3
CATEGORIES:DEFAULT
END:VEVENT
BEGIN:VEVENT
DTSTART;TZID=UTC:20250209T100000
DTEND;TZID=UTC:20250209T120000
DTSTAMP:20260420T164251
CREATED:20250204T193610Z
LAST-MODIFIED:20250204T193610Z
UID:3191-1739095200-1739102400@feldamempaga3.nadi.my
SUMMARY:Kelas E-Pembelajaran / Softskill / KDB
DESCRIPTION:Kelas E-Pembelajaran / Softskill / KDB \nHari : Setiap Ahad \nMasa : 10.00 pagi – 12.00 tengahari \nPeserta : Pelajar Sekolah \nModul 1 : Laman web pembelajaran interaktif\, kuiz online dan permainan online.\nModul 2 : Softskill\nModul 3 : Taklimat Klik Dengan Bijak dan tayangan video \nKelas adalah percuma kepada semua ahli NADI Felda Mempaga 3. \n(Terhad kepada 10 orang peserta sahaja bagi setiap sesi)
URL:https://feldamempaga3.nadi.my/event/kelas-e-pembelajaran-softskill-kdb-35/
LOCATION:NADI Felda Mempaga 3\, NADI Felda Mempaga 3
END:VEVENT
BEGIN:VEVENT
DTSTART;TZID=Asia/Kuala_Lumpur:20250208T100000
DTEND;TZID=Asia/Kuala_Lumpur:20250208T120000
DTSTAMP:20260420T164251
CREATED:20250225T095013Z
LAST-MODIFIED:20250225T095030Z
UID:3243-1739008800-1739016000@feldamempaga3.nadi.my
SUMMARY:Kelas Asas Komputer / ICT / Stem IOT
DESCRIPTION:Kelas Asas Komputer / ICT / Stem IOT \nHari : Setiap Sabtu \nMasa : 10.00 pagi – 12.00 tengahari \nPeserta : Pelajar Sekolah \nModul 1 : Microsoft Word\, Excel\, Power Point dan Publisher \nModul 2 : STEM IoT \nKelas adalah percuma kepada semua ahli NADI Felda Mempaga 3. \n(Terhad kepada 10 orang peserta sahaja bagi setiap sesi)
URL:https://feldamempaga3.nadi.my/event/kelas-asas-komputer-ict-stem-iot-35/
LOCATION:NADI Felda Mempaga 3\, NADI Felda Mempaga 3
CATEGORIES:DEFAULT
END:VEVENT
BEGIN:VEVENT
DTSTART;TZID=UTC:20250208T100000
DTEND;TZID=UTC:20250208T120000
DTSTAMP:20260420T164251
CREATED:20250204T193517Z
LAST-MODIFIED:20250204T193732Z
UID:3189-1739008800-1739016000@feldamempaga3.nadi.my
SUMMARY:Kelas Asas Komputer / ICT / Stem IOT
DESCRIPTION:Kelas Asas Komputer / ICT / Stem IOT \nHari : Setiap Sabtu \nMasa : 10.00 pagi – 12.00 tengahari \nPeserta : Pelajar Sekolah \nModul 1 : Microsoft Word\, Excel\, Power Point dan Publisher \nModul 2 : STEM IoT \nKelas adalah percuma kepada semua ahli NADI Felda Mempaga 3. \n(Terhad kepada 10 orang peserta sahaja bagi setiap sesi)
URL:https://feldamempaga3.nadi.my/event/kelas-asas-komputer-ict-stem-iot-34/
LOCATION:NADI Felda Mempaga 3\, NADI Felda Mempaga 3
END:VEVENT
BEGIN:VEVENT
DTSTART;TZID=UTC:20250125T100000
DTEND;TZID=UTC:20250125T113000
DTSTAMP:20260420T164251
CREATED:20250127T020031Z
LAST-MODIFIED:20250127T020031Z
UID:3179-1737799200-1737804600@feldamempaga3.nadi.my
SUMMARY:NADI x Cybersecurity : Lindungi Perniagaan Anda
DESCRIPTION:Webinar NADI x Cybersecurity\nMelindungi Perniagaan Anda : Cara Pengurusan Akaun & Transaksi Secara Selamat\nTarikh : 25 Januari 2025\nMasa : 10.00 pagi  – 11.30pagi\nTempat : Google Meet
URL:https://feldamempaga3.nadi.my/event/nadi-x-cybersecurity-lindungi-perniagaan-anda/
LOCATION:NADI Felda Mempaga 3\, NADI Felda Mempaga 3
END:VEVENT
BEGIN:VEVENT
DTSTART;TZID=UTC:20250119T100000
DTEND;TZID=UTC:20250119T120000
DTSTAMP:20260420T164251
CREATED:20250127T020436Z
LAST-MODIFIED:20250127T020436Z
UID:3183-1737280800-1737288000@feldamempaga3.nadi.my
SUMMARY:Kelas E-Pembelajaran / Softskill / KDB
DESCRIPTION:Kelas E-Pembelajaran / Softskill / KDB \nHari : Setiap Ahad \nMasa : 10.00 pagi – 12.00 tengahari \nPeserta : Pelajar Sekolah \nModul 1 : Laman web pembelajaran interaktif\, kuiz online dan permainan online.\nModul 2 : Softskill\nModul 3 : Taklimat Klik Dengan Bijak dan tayangan video \nKelas adalah percuma kepada semua ahli NADI Felda Mempaga 3. \n(Terhad kepada 10 orang peserta sahaja bagi setiap sesi)
URL:https://feldamempaga3.nadi.my/event/kelas-e-pembelajaran-softskill-kdb-34/
LOCATION:NADI Felda Mempaga 3\, NADI Felda Mempaga 3
END:VEVENT
BEGIN:VEVENT
DTSTART;TZID=UTC:20250118T100000
DTEND;TZID=UTC:20250118T120000
DTSTAMP:20260420T164251
CREATED:20250127T020247Z
LAST-MODIFIED:20250127T020247Z
UID:3181-1737194400-1737201600@feldamempaga3.nadi.my
SUMMARY:Kelas Asas Komputer / ICT / Stem IOT
DESCRIPTION:Kelas Asas Komputer / ICT / Stem IOT \nHari : Setiap Sabtu \nMasa : 10.00 pagi – 12.00 tengahari \nPeserta : Pelajar Sekolah \nModul 1 : Microsoft Word\, Excel\, Power Point dan Publisher \nModul 2 : STEM IoT \nKelas adalah percuma kepada semua ahli NADI Felda Mempaga 3. \n(Terhad kepada 10 orang peserta sahaja bagi setiap sesi)
URL:https://feldamempaga3.nadi.my/event/kelas-asas-komputer-ict-stem-iot-33/
LOCATION:NADI Felda Mempaga 3\, NADI Felda Mempaga 3
END:VEVENT
BEGIN:VEVENT
DTSTART;TZID=UTC:20250112T100000
DTEND;TZID=UTC:20250112T120000
DTSTAMP:20260420T164251
CREATED:20250103T191554Z
LAST-MODIFIED:20250103T230025Z
UID:3123-1736676000-1736683200@feldamempaga3.nadi.my
SUMMARY:Kelas E-Pembelajaran / Softskill / KDB
DESCRIPTION:Kelas E-Pembelajaran / Softskill / KDB \nHari : Setiap Ahad \nMasa : 10.00 pagi – 12.00 tengahari \nPeserta : Pelajar Sekolah \nModul 1 : Laman web pembelajaran interaktif\, kuiz online dan permainan online.\nModul 2 : Softskill\nModul 3 : Taklimat Klik Dengan Bijak dan tayangan video \nKelas adalah percuma kepada semua ahli NADI Felda Mempaga 3. \n(Terhad kepada 10 orang peserta sahaja bagi setiap sesi)
URL:https://feldamempaga3.nadi.my/event/kelas-e-pembelajaran-softskill-kdb-33/
LOCATION:NADI Felda Mempaga 3\, NADI Felda Mempaga 3
CATEGORIES:DEFAULT
END:VEVENT
END:VCALENDAR