BEGIN:VCALENDAR
VERSION:2.0
PRODID:-//NADI Felda Mempaga 3 - ECPv6.15.13.1//NONSGML v1.0//EN
CALSCALE:GREGORIAN
METHOD:PUBLISH
X-WR-CALNAME:NADI Felda Mempaga 3
X-ORIGINAL-URL:https://feldamempaga3.nadi.my
X-WR-CALDESC:Events for NADI Felda Mempaga 3
REFRESH-INTERVAL;VALUE=DURATION:PT1H
X-Robots-Tag:noindex
X-PUBLISHED-TTL:PT1H
BEGIN:VTIMEZONE
TZID:Asia/Kuala_Lumpur
BEGIN:STANDARD
TZOFFSETFROM:+0800
TZOFFSETTO:+0800
TZNAME:+08
DTSTART:20250101T000000
END:STANDARD
END:VTIMEZONE
BEGIN:VEVENT
DTSTART;TZID=Asia/Kuala_Lumpur:20260422T110000
DTEND;TZID=Asia/Kuala_Lumpur:20260422T120000
DTSTAMP:20260420T082157
CREATED:20260415T031115Z
LAST-MODIFIED:20260415T031115Z
UID:4408-1776855600-1776859200@feldamempaga3.nadi.my
SUMMARY:Kelas Mahir Jahit: Pouch Bag Comel bersama Cikgu Wawa!
DESCRIPTION:📣 Jom sertai 2 Mahir Short Learning Series (SLS):\n \n1) Jom sertai Kelas SLS Mahir Jahit: Pouch Bag Comel bersama Cikgu Wawa!\n🎯 Apa yang anda akan dapat:\n👜 Belajar step-by-step jahit pouch bag comel\n👍 Sesuai untuk beginner\n💰 Boleh jana income tambahan dengan hasil jahitan sendiri \n📅 22 April 2026 (Rabu)\n⏰ 11.15 pagi – 12.00 tengah hari\n📍 YouTube Studio NADI Mahir\n🔗 https://www.youtube.com/live/k7D6HVmBwws \nJom belajar skill baru dan tambah ilmu dengan NADI Mahir  😉✨
URL:https://feldamempaga3.nadi.my/event/kelas-mahir-jahit-pouch-bag-comel-bersama-cikgu-wawa/
LOCATION:NADI Felda Mempaga 3\, NADI Felda Mempaga 3
END:VEVENT
BEGIN:VEVENT
DTSTART;TZID=Asia/Kuala_Lumpur:20260422T120000
DTEND;TZID=Asia/Kuala_Lumpur:20260422T130000
DTSTAMP:20260420T082157
CREATED:20260415T032439Z
LAST-MODIFIED:20260415T032439Z
UID:4411-1776859200-1776862800@feldamempaga3.nadi.my
SUMMARY:Kelas Mahir Jahit: Coaster Fabrik Handmade bersama Cikgu Sue!
DESCRIPTION:Jom sertai Kelas SLS Mahir Jahit: Coaster Fabrik Handmade bersama Cikgu Sue!\nDalam sesi ini\, anda akan belajar cara menghasilkan coaster kain yang kemas\, cantik dan praktikal sebagai alas cawan atau hiasan meja ☕🌸\n🎯 Apa yang anda akan pelajari:\n✂️ Teknik asas menjahit coaster fabrik dengan langkah yang mudah difahami\n🪡 Cara potong dan gabungkan kain dengan kemas & teratur\n💰 Sesuai untuk beginner dan boleh dijadikan produk untuk jana income \n📅 22 April 2026 (Rabu)\n⏰ 12.05 – 12.50 tengah hari\n📍 YouTube Studio NADI Mahir\n🔗 https://www.youtube.com/live/-Bgv_Y1avmY \nJom ajak komuniti join sama-sama! Belajar skill baru yang simple tapi sangat praktikal bersama NADI Mahir ✨
URL:https://feldamempaga3.nadi.my/event/kelas-mahir-jahit-coaster-fabrik-handmade-bersama-cikgu-sue/
LOCATION:NADI Felda Mempaga 3\, NADI Felda Mempaga 3
END:VEVENT
BEGIN:VEVENT
DTSTART;TZID=Asia/Kuala_Lumpur:20260423T150000
DTEND;TZID=Asia/Kuala_Lumpur:20260423T163000
DTSTAMP:20260420T082157
CREATED:20260415T032629Z
LAST-MODIFIED:20260415T032629Z
UID:4414-1776956400-1776961800@feldamempaga3.nadi.my
SUMMARY:Webinar : Bagaimana Akaun Sosial Media Anda Boleh Digodam
DESCRIPTION:Jemputan untuk menyertai Webinar NADI x Cybersecurity bertarikh 23 April 2026 yang bertajuk Bagaimana Akaun Sosial Media Anda Boleh Digodam. Butiran lanjut adalah seperti dibawah: \n\n\n\n\n\nTarikh\n\n\n23 April 2026\n\n\n\n\nMasa\n\n\nKhamis\, 3:00 petang – 4:30 petang\n\n\n\n\nPlatform\n\n\nZoom\n\n\n\n\nPautan Penyertaan\n\n\ncybersecurity.nadi.my\n\n\n\n\n\nBagaimana Akaun Sosial Media Anda Boleh Digodam :\n\nWebinar “Bagaimana Akaun Social Media Anda Boleh Digodam!” ini memberi pendedahan tentang teknik sebenar yang digunakan oleh penggodam untuk menembusi akaun media sosial seperti phishing\, penggunaan kata laluan lemah\, serta serangan kejuruteraan sosial. Peserta akan memahami bagaimana kecuaian kecil boleh membuka ruang kepada pencerobohan data peribadi.\n\n\nSyarat Penyertaan: \n\nBerdaftar sebagai Ahli NADI
URL:https://feldamempaga3.nadi.my/event/webinar-bagaimana-akaun-sosial-media-anda-boleh-digodam/
LOCATION:NADI Felda Mempaga 3\, NADI Felda Mempaga 3
END:VEVENT
END:VCALENDAR