BEGIN:VCALENDAR
VERSION:2.0
PRODID:-//NADI Felda Mempaga 3 - ECPv6.15.13.1//NONSGML v1.0//EN
CALSCALE:GREGORIAN
METHOD:PUBLISH
X-WR-CALNAME:NADI Felda Mempaga 3
X-ORIGINAL-URL:https://feldamempaga3.nadi.my
X-WR-CALDESC:Events for NADI Felda Mempaga 3
REFRESH-INTERVAL;VALUE=DURATION:PT1H
X-Robots-Tag:noindex
X-PUBLISHED-TTL:PT1H
BEGIN:VTIMEZONE
TZID:UTC
BEGIN:STANDARD
TZOFFSETFROM:+0000
TZOFFSETTO:+0000
TZNAME:UTC
DTSTART:20230101T000000
END:STANDARD
END:VTIMEZONE
BEGIN:VEVENT
DTSTART;TZID=UTC:20240920T093000
DTEND;TZID=UTC:20240920T120000
DTSTAMP:20260424T151909
CREATED:20240907T044147Z
LAST-MODIFIED:20240907T044147Z
UID:3040-1726824600-1726833600@feldamempaga3.nadi.my
SUMMARY:Kelas Keusahawanan
DESCRIPTION:Hari : Setiap Jumaat \nMasa : 9.30 pagi – 12.00 tengahari \nPeserta : Usahawan \nModul : Shopee\, Facebook\, Instagram\, Email\, Perbankan Internet dll. \nKelas adalah percuma kepada semua ahli NADI Felda Mempaga 3. \n(Terhad kepada 10 orang peserta sahaja bagi setiap sesi)
URL:https://feldamempaga3.nadi.my/event/kelas-keusahawanan-190/
LOCATION:NADI Felda Mempaga 3\, NADI Felda Mempaga 3
CATEGORIES:DEFAULT
END:VEVENT
BEGIN:VEVENT
DTSTART;TZID=UTC:20240915T100000
DTEND;TZID=UTC:20240915T120000
DTSTAMP:20260424T151909
CREATED:20240907T043851Z
LAST-MODIFIED:20240907T043851Z
UID:3035-1726394400-1726401600@feldamempaga3.nadi.my
SUMMARY:Kelas E-Pembelajaran / Softskill / KDB
DESCRIPTION:Hari : Setiap Ahad \nMasa : 10.00 pagi – 12.00 tengahari \nPeserta : Pelajar Sekolah \nModul 1 : Laman web pembelajaran interaktif\, kuiz online dan permainan online.Modul 2 : SoftskillModul 3 : Taklimat Klik Dengan Bijak dan tayangan video \nKelas adalah percuma kepada semua ahli NADI Felda Mempaga 3. \n(Terhad kepada 20 orang peserta sahaja bagi setiap sesi)
URL:https://feldamempaga3.nadi.my/event/kelas-e-pembelajaran-softskill-kdb-27/
LOCATION:NADI Felda Mempaga 3\, NADI Felda Mempaga 3
CATEGORIES:DEFAULT
END:VEVENT
BEGIN:VEVENT
DTSTART;TZID=UTC:20240914T100000
DTEND;TZID=UTC:20240914T120000
DTSTAMP:20260424T151909
CREATED:20240907T043700Z
LAST-MODIFIED:20240907T043700Z
UID:3031-1726308000-1726315200@feldamempaga3.nadi.my
SUMMARY:Kelas Asas Komputer / ICT / STEM IoT
DESCRIPTION:Hari : Setiap Sabtu \nMasa : 10.00 pagi – 12.00 tengahari \nPeserta : Pelajar Sekolah \nModul 1 : Microsoft Word\, Excel\, Power Point dan Publisher \nModul 2 : STEM IoT \nKelas adalah percuma kepada semua ahli NADI Felda Mempaga 3. \n(Terhad kepada 20 orang peserta sahaja bagi setiap sesi)
URL:https://feldamempaga3.nadi.my/event/kelas-asas-komputer-ict-stem-iot-27/
LOCATION:NADI Felda Mempaga 3\, NADI Felda Mempaga 3
CATEGORIES:DEFAULT
END:VEVENT
BEGIN:VEVENT
DTSTART;TZID=UTC:20240913T093000
DTEND;TZID=UTC:20240913T120000
DTSTAMP:20260424T151909
CREATED:20240907T044147Z
LAST-MODIFIED:20240907T044147Z
UID:3039-1726219800-1726228800@feldamempaga3.nadi.my
SUMMARY:Kelas Keusahawanan
DESCRIPTION:Hari : Setiap Jumaat \nMasa : 9.30 pagi – 12.00 tengahari \nPeserta : Usahawan \nModul : Shopee\, Facebook\, Instagram\, Email\, Perbankan Internet dll. \nKelas adalah percuma kepada semua ahli NADI Felda Mempaga 3. \n(Terhad kepada 10 orang peserta sahaja bagi setiap sesi)
URL:https://feldamempaga3.nadi.my/event/kelas-keusahawanan-189/
LOCATION:NADI Felda Mempaga 3\, NADI Felda Mempaga 3
CATEGORIES:DEFAULT
END:VEVENT
BEGIN:VEVENT
DTSTART;TZID=UTC:20240908T100000
DTEND;TZID=UTC:20240908T120000
DTSTAMP:20260424T151909
CREATED:20240907T043851Z
LAST-MODIFIED:20240907T043851Z
UID:3034-1725789600-1725796800@feldamempaga3.nadi.my
SUMMARY:Kelas E-Pembelajaran / Softskill / KDB
DESCRIPTION:Hari : Setiap Ahad \nMasa : 10.00 pagi – 12.00 tengahari \nPeserta : Pelajar Sekolah \nModul 1 : Laman web pembelajaran interaktif\, kuiz online dan permainan online.Modul 2 : SoftskillModul 3 : Taklimat Klik Dengan Bijak dan tayangan video \nKelas adalah percuma kepada semua ahli NADI Felda Mempaga 3. \n(Terhad kepada 20 orang peserta sahaja bagi setiap sesi)
URL:https://feldamempaga3.nadi.my/event/kelas-e-pembelajaran-softskill-kdb-26/
LOCATION:NADI Felda Mempaga 3\, NADI Felda Mempaga 3
CATEGORIES:DEFAULT
END:VEVENT
BEGIN:VEVENT
DTSTART;TZID=UTC:20240907T100000
DTEND;TZID=UTC:20240907T120000
DTSTAMP:20260424T151909
CREATED:20240907T043700Z
LAST-MODIFIED:20240907T043700Z
UID:3030-1725703200-1725710400@feldamempaga3.nadi.my
SUMMARY:Kelas Asas Komputer / ICT / STEM IoT
DESCRIPTION:Hari : Setiap Sabtu \nMasa : 10.00 pagi – 12.00 tengahari \nPeserta : Pelajar Sekolah \nModul 1 : Microsoft Word\, Excel\, Power Point dan Publisher \nModul 2 : STEM IoT \nKelas adalah percuma kepada semua ahli NADI Felda Mempaga 3. \n(Terhad kepada 20 orang peserta sahaja bagi setiap sesi)
URL:https://feldamempaga3.nadi.my/event/kelas-asas-komputer-ict-stem-iot-26/
LOCATION:NADI Felda Mempaga 3\, NADI Felda Mempaga 3
CATEGORIES:DEFAULT
END:VEVENT
BEGIN:VEVENT
DTSTART;TZID=UTC:20240906T093000
DTEND;TZID=UTC:20240906T120000
DTSTAMP:20260424T151909
CREATED:20240907T044147Z
LAST-MODIFIED:20240907T044147Z
UID:3038-1725615000-1725624000@feldamempaga3.nadi.my
SUMMARY:Kelas Keusahawanan
DESCRIPTION:Hari : Setiap Jumaat \nMasa : 9.30 pagi – 12.00 tengahari \nPeserta : Usahawan \nModul : Shopee\, Facebook\, Instagram\, Email\, Perbankan Internet dll. \nKelas adalah percuma kepada semua ahli NADI Felda Mempaga 3. \n(Terhad kepada 10 orang peserta sahaja bagi setiap sesi)
URL:https://feldamempaga3.nadi.my/event/kelas-keusahawanan-188/
LOCATION:NADI Felda Mempaga 3\, NADI Felda Mempaga 3
CATEGORIES:DEFAULT
END:VEVENT
BEGIN:VEVENT
DTSTART;TZID=UTC:20240830T093000
DTEND;TZID=UTC:20240830T120000
DTSTAMP:20260424T151909
CREATED:20240806T015546Z
LAST-MODIFIED:20240806T015546Z
UID:3029-1725010200-1725019200@feldamempaga3.nadi.my
SUMMARY:Kelas Keusahawanan
DESCRIPTION:Hari : Setiap Jumaat \nMasa : 9.30 pagi – 12.00 tengahari \nPeserta : Usahawan \nModul : Shopee\, Facebook\, Instagram\, Email\, Perbankan Internet dll. \nKelas adalah percuma kepada semua ahli NADI Felda Mempaga 3. \n(Terhad kepada 10 orang peserta sahaja bagi setiap sesi) \nKelas adalah percuma kepada semua ahli NADI Felda Mempaga 3. \n(Terhad kepada 10 orang peserta sahaja bagi setiap sesi)
URL:https://feldamempaga3.nadi.my/event/kelas-keusahawanan-187/
LOCATION:NADI Felda Mempaga 3\, NADI Felda Mempaga 3
CATEGORIES:DEFAULT
END:VEVENT
BEGIN:VEVENT
DTSTART;TZID=UTC:20240825T100000
DTEND;TZID=UTC:20240825T120000
DTSTAMP:20260424T151909
CREATED:20240806T015423Z
LAST-MODIFIED:20240806T015423Z
UID:3025-1724580000-1724587200@feldamempaga3.nadi.my
SUMMARY:Kelas E-Pembelajaran / Softskill / KDB
DESCRIPTION:Hari : Setiap Ahad \nMasa : 10.00 pagi – 12.00 tengahari \nPeserta : Pelajar Sekolah \nModul 1 : Laman web pembelajaran interaktif\, kuiz online dan permainan online.Modul 2 : SoftskillModul 3 : Taklimat Klik Dengan Bijak dan tayangan video \n  \nKelas adalah percuma kepada semua ahli NADI Felda Mempaga 3. \n(Terhad kepada 10 orang peserta sahaja bagi setiap sesi)
URL:https://feldamempaga3.nadi.my/event/kelas-e-pembelajaran-softskill-kdb-25/
LOCATION:NADI Felda Mempaga 3\, NADI Felda Mempaga 3
CATEGORIES:DEFAULT
END:VEVENT
BEGIN:VEVENT
DTSTART;TZID=UTC:20240824T100000
DTEND;TZID=UTC:20240824T120000
DTSTAMP:20260424T151909
CREATED:20240806T015310Z
LAST-MODIFIED:20240806T015310Z
UID:3022-1724493600-1724500800@feldamempaga3.nadi.my
SUMMARY:Kelas Asas Komputer / ICT / Stem IOT
DESCRIPTION:Hari : Setiap Sabtu \nMasa : 10.00 pagi – 12.00 tengahari \nPeserta : Pelajar Sekolah \nModul 1 : Microsoft Word\, Excel\, Power Point dan Publisher \nModul 2 : STEM IoT \n  \nKelas adalah percuma kepada semua ahli NADI Felda Mempaga 3. \n(Terhad kepada 20 orang peserta sahaja bagi setiap sesi)
URL:https://feldamempaga3.nadi.my/event/kelas-asas-komputer-ict-stem-iot-25/
LOCATION:NADI Felda Mempaga 3\, NADI Felda Mempaga 3
CATEGORIES:DEFAULT
END:VEVENT
BEGIN:VEVENT
DTSTART;TZID=UTC:20240823T093000
DTEND;TZID=UTC:20240823T120000
DTSTAMP:20260424T151909
CREATED:20240806T015546Z
LAST-MODIFIED:20240806T015546Z
UID:3028-1724405400-1724414400@feldamempaga3.nadi.my
SUMMARY:Kelas Keusahawanan
DESCRIPTION:Hari : Setiap Jumaat \nMasa : 9.30 pagi – 12.00 tengahari \nPeserta : Usahawan \nModul : Shopee\, Facebook\, Instagram\, Email\, Perbankan Internet dll. \nKelas adalah percuma kepada semua ahli NADI Felda Mempaga 3. \n(Terhad kepada 10 orang peserta sahaja bagi setiap sesi) \nKelas adalah percuma kepada semua ahli NADI Felda Mempaga 3. \n(Terhad kepada 10 orang peserta sahaja bagi setiap sesi)
URL:https://feldamempaga3.nadi.my/event/kelas-keusahawanan-186/
LOCATION:NADI Felda Mempaga 3\, NADI Felda Mempaga 3
CATEGORIES:DEFAULT
END:VEVENT
BEGIN:VEVENT
DTSTART;TZID=UTC:20240818T100000
DTEND;TZID=UTC:20240818T120000
DTSTAMP:20260424T151909
CREATED:20240806T015423Z
LAST-MODIFIED:20240806T015423Z
UID:3024-1723975200-1723982400@feldamempaga3.nadi.my
SUMMARY:Kelas E-Pembelajaran / Softskill / KDB
DESCRIPTION:Hari : Setiap Ahad \nMasa : 10.00 pagi – 12.00 tengahari \nPeserta : Pelajar Sekolah \nModul 1 : Laman web pembelajaran interaktif\, kuiz online dan permainan online.Modul 2 : SoftskillModul 3 : Taklimat Klik Dengan Bijak dan tayangan video \n  \nKelas adalah percuma kepada semua ahli NADI Felda Mempaga 3. \n(Terhad kepada 10 orang peserta sahaja bagi setiap sesi)
URL:https://feldamempaga3.nadi.my/event/kelas-e-pembelajaran-softskill-kdb-24/
LOCATION:NADI Felda Mempaga 3\, NADI Felda Mempaga 3
CATEGORIES:DEFAULT
END:VEVENT
BEGIN:VEVENT
DTSTART;TZID=UTC:20240817T100000
DTEND;TZID=UTC:20240817T120000
DTSTAMP:20260424T151909
CREATED:20240806T015310Z
LAST-MODIFIED:20240806T015310Z
UID:3021-1723888800-1723896000@feldamempaga3.nadi.my
SUMMARY:Kelas Asas Komputer / ICT / Stem IOT
DESCRIPTION:Hari : Setiap Sabtu \nMasa : 10.00 pagi – 12.00 tengahari \nPeserta : Pelajar Sekolah \nModul 1 : Microsoft Word\, Excel\, Power Point dan Publisher \nModul 2 : STEM IoT \n  \nKelas adalah percuma kepada semua ahli NADI Felda Mempaga 3. \n(Terhad kepada 20 orang peserta sahaja bagi setiap sesi)
URL:https://feldamempaga3.nadi.my/event/kelas-asas-komputer-ict-stem-iot-24/
LOCATION:NADI Felda Mempaga 3\, NADI Felda Mempaga 3
CATEGORIES:DEFAULT
END:VEVENT
BEGIN:VEVENT
DTSTART;TZID=UTC:20240816T093000
DTEND;TZID=UTC:20240816T120000
DTSTAMP:20260424T151909
CREATED:20240806T015546Z
LAST-MODIFIED:20240806T015546Z
UID:3027-1723800600-1723809600@feldamempaga3.nadi.my
SUMMARY:Kelas Keusahawanan
DESCRIPTION:Hari : Setiap Jumaat \nMasa : 9.30 pagi – 12.00 tengahari \nPeserta : Usahawan \nModul : Shopee\, Facebook\, Instagram\, Email\, Perbankan Internet dll. \nKelas adalah percuma kepada semua ahli NADI Felda Mempaga 3. \n(Terhad kepada 10 orang peserta sahaja bagi setiap sesi) \nKelas adalah percuma kepada semua ahli NADI Felda Mempaga 3. \n(Terhad kepada 10 orang peserta sahaja bagi setiap sesi)
URL:https://feldamempaga3.nadi.my/event/kelas-keusahawanan-185/
LOCATION:NADI Felda Mempaga 3\, NADI Felda Mempaga 3
CATEGORIES:DEFAULT
END:VEVENT
BEGIN:VEVENT
DTSTART;TZID=UTC:20240811T100000
DTEND;TZID=UTC:20240811T120000
DTSTAMP:20260424T151909
CREATED:20240806T015423Z
LAST-MODIFIED:20240806T015423Z
UID:3023-1723370400-1723377600@feldamempaga3.nadi.my
SUMMARY:Kelas E-Pembelajaran / Softskill / KDB
DESCRIPTION:Hari : Setiap Ahad \nMasa : 10.00 pagi – 12.00 tengahari \nPeserta : Pelajar Sekolah \nModul 1 : Laman web pembelajaran interaktif\, kuiz online dan permainan online.Modul 2 : SoftskillModul 3 : Taklimat Klik Dengan Bijak dan tayangan video \n  \nKelas adalah percuma kepada semua ahli NADI Felda Mempaga 3. \n(Terhad kepada 10 orang peserta sahaja bagi setiap sesi)
URL:https://feldamempaga3.nadi.my/event/kelas-e-pembelajaran-softskill-kdb-23/
LOCATION:NADI Felda Mempaga 3\, NADI Felda Mempaga 3
CATEGORIES:DEFAULT
END:VEVENT
BEGIN:VEVENT
DTSTART;TZID=UTC:20240810T100000
DTEND;TZID=UTC:20240810T120000
DTSTAMP:20260424T151909
CREATED:20240806T015310Z
LAST-MODIFIED:20240806T015310Z
UID:3020-1723284000-1723291200@feldamempaga3.nadi.my
SUMMARY:Kelas Asas Komputer / ICT / Stem IOT
DESCRIPTION:Hari : Setiap Sabtu \nMasa : 10.00 pagi – 12.00 tengahari \nPeserta : Pelajar Sekolah \nModul 1 : Microsoft Word\, Excel\, Power Point dan Publisher \nModul 2 : STEM IoT \n  \nKelas adalah percuma kepada semua ahli NADI Felda Mempaga 3. \n(Terhad kepada 20 orang peserta sahaja bagi setiap sesi)
URL:https://feldamempaga3.nadi.my/event/kelas-asas-komputer-ict-stem-iot-23/
LOCATION:NADI Felda Mempaga 3\, NADI Felda Mempaga 3
CATEGORIES:DEFAULT
END:VEVENT
BEGIN:VEVENT
DTSTART;TZID=UTC:20240809T093000
DTEND;TZID=UTC:20240809T120000
DTSTAMP:20260424T151909
CREATED:20240806T015546Z
LAST-MODIFIED:20240806T015546Z
UID:3026-1723195800-1723204800@feldamempaga3.nadi.my
SUMMARY:Kelas Keusahawanan
DESCRIPTION:Hari : Setiap Jumaat \nMasa : 9.30 pagi – 12.00 tengahari \nPeserta : Usahawan \nModul : Shopee\, Facebook\, Instagram\, Email\, Perbankan Internet dll. \nKelas adalah percuma kepada semua ahli NADI Felda Mempaga 3. \n(Terhad kepada 10 orang peserta sahaja bagi setiap sesi) \nKelas adalah percuma kepada semua ahli NADI Felda Mempaga 3. \n(Terhad kepada 10 orang peserta sahaja bagi setiap sesi)
URL:https://feldamempaga3.nadi.my/event/kelas-keusahawanan-184/
LOCATION:NADI Felda Mempaga 3\, NADI Felda Mempaga 3
CATEGORIES:DEFAULT
END:VEVENT
BEGIN:VEVENT
DTSTART;TZID=UTC:20240728T100000
DTEND;TZID=UTC:20240728T120000
DTSTAMP:20260424T151909
CREATED:20240708T020510Z
LAST-MODIFIED:20240708T020510Z
UID:3016-1722160800-1722168000@feldamempaga3.nadi.my
SUMMARY:Kelas E-Pembelajaran / Softskill / KDB
DESCRIPTION:Hari : Setiap Ahad \nMasa : 10.00 pagi – 12.00 tengahari \nPeserta : Pelajar Sekolah \nModul 1 : Laman web pembelajaran interaktif\, kuiz online dan permainan online.Modul 2 : SoftskillModul 3 : Taklimat Klik Dengan Bijak dan tayangan video \n  \nKelas adalah percuma kepada semua ahli NADI Felda Mempaga 3. \n(Terhad kepada 10 orang peserta sahaja bagi setiap sesi)
URL:https://feldamempaga3.nadi.my/event/kelas-e-pembelajaran-softskill-kdb-22/
LOCATION:NADI Felda Mempaga 3\, NADI Felda Mempaga 3
CATEGORIES:DEFAULT
END:VEVENT
BEGIN:VEVENT
DTSTART;TZID=UTC:20240727T100000
DTEND;TZID=UTC:20240727T120000
DTSTAMP:20260424T151909
CREATED:20240708T020423Z
LAST-MODIFIED:20240708T020423Z
UID:3013-1722074400-1722081600@feldamempaga3.nadi.my
SUMMARY:Kelas Asas Komputer / ICT / Stem IOT
DESCRIPTION:Hari : Setiap Sabtu \nMasa : 10.00 pagi – 12.00 tengahari \nPeserta : Pelajar Sekolah \nModul 1 : Microsoft Word\, Excel\, Power Point dan Publisher \nModul 2 : STEM IoT \n  \nKelas adalah percuma kepada semua ahli NADI Felda Mempaga 3. \n(Terhad kepada 10 orang peserta sahaja bagi setiap sesi)
URL:https://feldamempaga3.nadi.my/event/kelas-asas-komputer-ict-stem-iot-22/
LOCATION:NADI Felda Mempaga 3\, NADI Felda Mempaga 3
CATEGORIES:DEFAULT
END:VEVENT
BEGIN:VEVENT
DTSTART;TZID=UTC:20240726T093000
DTEND;TZID=UTC:20240726T120000
DTSTAMP:20260424T151909
CREATED:20240708T020624Z
LAST-MODIFIED:20240708T020624Z
UID:3019-1721986200-1721995200@feldamempaga3.nadi.my
SUMMARY:Kelas Keusahawanan
DESCRIPTION:Hari : Setiap Jumaat \nMasa : 9.30 pagi – 12.00 tengahari \nPeserta : Usahawan \nModul : Shopee\, Facebook\, Instagram\, Email\, Perbankan Internet dll. \n \nKelas adalah percuma kepada semua ahli NADI Felda Mempaga 3. \n(Terhad kepada 10 orang peserta sahaja bagi setiap sesi)
URL:https://feldamempaga3.nadi.my/event/kelas-keusahawanan-183/
LOCATION:NADI Felda Mempaga 3\, NADI Felda Mempaga 3
CATEGORIES:DEFAULT
END:VEVENT
BEGIN:VEVENT
DTSTART;TZID=UTC:20240721T100000
DTEND;TZID=UTC:20240721T120000
DTSTAMP:20260424T151909
CREATED:20240708T020510Z
LAST-MODIFIED:20240708T020510Z
UID:3015-1721556000-1721563200@feldamempaga3.nadi.my
SUMMARY:Kelas E-Pembelajaran / Softskill / KDB
DESCRIPTION:Hari : Setiap Ahad \nMasa : 10.00 pagi – 12.00 tengahari \nPeserta : Pelajar Sekolah \nModul 1 : Laman web pembelajaran interaktif\, kuiz online dan permainan online.Modul 2 : SoftskillModul 3 : Taklimat Klik Dengan Bijak dan tayangan video \n  \nKelas adalah percuma kepada semua ahli NADI Felda Mempaga 3. \n(Terhad kepada 10 orang peserta sahaja bagi setiap sesi)
URL:https://feldamempaga3.nadi.my/event/kelas-e-pembelajaran-softskill-kdb-21/
LOCATION:NADI Felda Mempaga 3\, NADI Felda Mempaga 3
CATEGORIES:DEFAULT
END:VEVENT
BEGIN:VEVENT
DTSTART;TZID=UTC:20240720T100000
DTEND;TZID=UTC:20240720T120000
DTSTAMP:20260424T151909
CREATED:20240708T020423Z
LAST-MODIFIED:20240708T020423Z
UID:3012-1721469600-1721476800@feldamempaga3.nadi.my
SUMMARY:Kelas Asas Komputer / ICT / Stem IOT
DESCRIPTION:Hari : Setiap Sabtu \nMasa : 10.00 pagi – 12.00 tengahari \nPeserta : Pelajar Sekolah \nModul 1 : Microsoft Word\, Excel\, Power Point dan Publisher \nModul 2 : STEM IoT \n  \nKelas adalah percuma kepada semua ahli NADI Felda Mempaga 3. \n(Terhad kepada 10 orang peserta sahaja bagi setiap sesi)
URL:https://feldamempaga3.nadi.my/event/kelas-asas-komputer-ict-stem-iot-21/
LOCATION:NADI Felda Mempaga 3\, NADI Felda Mempaga 3
CATEGORIES:DEFAULT
END:VEVENT
BEGIN:VEVENT
DTSTART;TZID=UTC:20240719T093000
DTEND;TZID=UTC:20240719T120000
DTSTAMP:20260424T151909
CREATED:20240708T020624Z
LAST-MODIFIED:20240708T020624Z
UID:3018-1721381400-1721390400@feldamempaga3.nadi.my
SUMMARY:Kelas Keusahawanan
DESCRIPTION:Hari : Setiap Jumaat \nMasa : 9.30 pagi – 12.00 tengahari \nPeserta : Usahawan \nModul : Shopee\, Facebook\, Instagram\, Email\, Perbankan Internet dll. \n \nKelas adalah percuma kepada semua ahli NADI Felda Mempaga 3. \n(Terhad kepada 10 orang peserta sahaja bagi setiap sesi)
URL:https://feldamempaga3.nadi.my/event/kelas-keusahawanan-182/
LOCATION:NADI Felda Mempaga 3\, NADI Felda Mempaga 3
CATEGORIES:DEFAULT
END:VEVENT
BEGIN:VEVENT
DTSTART;TZID=UTC:20240714T100000
DTEND;TZID=UTC:20240714T120000
DTSTAMP:20260424T151909
CREATED:20240708T020510Z
LAST-MODIFIED:20240708T020510Z
UID:3014-1720951200-1720958400@feldamempaga3.nadi.my
SUMMARY:Kelas E-Pembelajaran / Softskill / KDB
DESCRIPTION:Hari : Setiap Ahad \nMasa : 10.00 pagi – 12.00 tengahari \nPeserta : Pelajar Sekolah \nModul 1 : Laman web pembelajaran interaktif\, kuiz online dan permainan online.Modul 2 : SoftskillModul 3 : Taklimat Klik Dengan Bijak dan tayangan video \n  \nKelas adalah percuma kepada semua ahli NADI Felda Mempaga 3. \n(Terhad kepada 10 orang peserta sahaja bagi setiap sesi)
URL:https://feldamempaga3.nadi.my/event/kelas-e-pembelajaran-softskill-kdb-20/
LOCATION:NADI Felda Mempaga 3\, NADI Felda Mempaga 3
CATEGORIES:DEFAULT
END:VEVENT
BEGIN:VEVENT
DTSTART;TZID=UTC:20240713T100000
DTEND;TZID=UTC:20240713T120000
DTSTAMP:20260424T151909
CREATED:20240708T020423Z
LAST-MODIFIED:20240708T020423Z
UID:3011-1720864800-1720872000@feldamempaga3.nadi.my
SUMMARY:Kelas Asas Komputer / ICT / Stem IOT
DESCRIPTION:Hari : Setiap Sabtu \nMasa : 10.00 pagi – 12.00 tengahari \nPeserta : Pelajar Sekolah \nModul 1 : Microsoft Word\, Excel\, Power Point dan Publisher \nModul 2 : STEM IoT \n  \nKelas adalah percuma kepada semua ahli NADI Felda Mempaga 3. \n(Terhad kepada 10 orang peserta sahaja bagi setiap sesi)
URL:https://feldamempaga3.nadi.my/event/kelas-asas-komputer-ict-stem-iot-20/
LOCATION:NADI Felda Mempaga 3\, NADI Felda Mempaga 3
CATEGORIES:DEFAULT
END:VEVENT
BEGIN:VEVENT
DTSTART;TZID=UTC:20240712T093000
DTEND;TZID=UTC:20240712T120000
DTSTAMP:20260424T151909
CREATED:20240708T020624Z
LAST-MODIFIED:20240708T020624Z
UID:3017-1720776600-1720785600@feldamempaga3.nadi.my
SUMMARY:Kelas Keusahawanan
DESCRIPTION:Hari : Setiap Jumaat \nMasa : 9.30 pagi – 12.00 tengahari \nPeserta : Usahawan \nModul : Shopee\, Facebook\, Instagram\, Email\, Perbankan Internet dll. \n \nKelas adalah percuma kepada semua ahli NADI Felda Mempaga 3. \n(Terhad kepada 10 orang peserta sahaja bagi setiap sesi)
URL:https://feldamempaga3.nadi.my/event/kelas-keusahawanan-181/
LOCATION:NADI Felda Mempaga 3\, NADI Felda Mempaga 3
CATEGORIES:DEFAULT
END:VEVENT
BEGIN:VEVENT
DTSTART;TZID=UTC:20240630T100000
DTEND;TZID=UTC:20240630T120000
DTSTAMP:20260424T151909
CREATED:20240606T015545Z
LAST-MODIFIED:20240606T015545Z
UID:3006-1719741600-1719748800@feldamempaga3.nadi.my
SUMMARY:Kelas E-Pembelajaran / Softskill / KDB
DESCRIPTION:  \nHari : Setiap Ahad \nMasa : 10.00 pagi – 12.00 tengahari \nPeserta : Pelajar Sekolah \nModul 1 : Laman web pembelajaran interaktif\, kuiz online dan permainan online.Modul 2 : SoftskillModul 3 : Taklimat Klik Dengan Bijak dan tayangan video \n  \nKelas adalah percuma kepada semua ahli NADI Felda Mempaga 3. \n(Terhad kepada 10 orang peserta sahaja bagi setiap sesi)
URL:https://feldamempaga3.nadi.my/event/kelas-e-pembelajaran-softskill-kdb-19/
LOCATION:NADI Felda Mempaga 3\, NADI Felda Mempaga 3
CATEGORIES:DEFAULT
END:VEVENT
BEGIN:VEVENT
DTSTART;TZID=UTC:20240629T100000
DTEND;TZID=UTC:20240629T120000
DTSTAMP:20260424T151909
CREATED:20240606T015440Z
LAST-MODIFIED:20240606T015440Z
UID:3002-1719655200-1719662400@feldamempaga3.nadi.my
SUMMARY:Kelas Asas Komputer / ICT / Stem IOT
DESCRIPTION:Hari : Setiap Sabtu \nMasa : 10.00 pagi – 12.00 tengahari \nPeserta : Pelajar Sekolah \nModul 1 : Microsoft Word\, Excel\, Power Point dan Publisher \nModul 2 : STEM IoT \n  \nKelas adalah percuma kepada semua ahli NADI Felda Mempaga 3. \n(Terhad kepada 10 orang peserta sahaja bagi setiap sesi)
URL:https://feldamempaga3.nadi.my/event/kelas-asas-komputer-ict-stem-iot-19/
LOCATION:NADI Felda Mempaga 3\, NADI Felda Mempaga 3
CATEGORIES:DEFAULT
END:VEVENT
BEGIN:VEVENT
DTSTART;TZID=UTC:20240628T093000
DTEND;TZID=UTC:20240628T120000
DTSTAMP:20260424T151909
CREATED:20240606T020149Z
LAST-MODIFIED:20240606T020149Z
UID:3010-1719567000-1719576000@feldamempaga3.nadi.my
SUMMARY:Kelas Keusahawanan
DESCRIPTION:  \nHari : Setiap Jumaat \nMasa : 9.30 pagi – 12.00 tengahari \nPeserta : Usahawan \nModul : Shopee\, Facebook\, Instagram\, Email\, Perbankan Internet dll. \n \nKelas adalah percuma kepada semua ahli NADI Felda Mempaga 3. \n(Terhad kepada 10 orang peserta sahaja bagi setiap sesi)
URL:https://feldamempaga3.nadi.my/event/kelas-keusahawanan-180/
LOCATION:NADI Felda Mempaga 3\, NADI Felda Mempaga 3
CATEGORIES:DEFAULT
END:VEVENT
BEGIN:VEVENT
DTSTART;TZID=UTC:20240623T100000
DTEND;TZID=UTC:20240623T120000
DTSTAMP:20260424T151909
CREATED:20240606T015545Z
LAST-MODIFIED:20240606T015545Z
UID:3005-1719136800-1719144000@feldamempaga3.nadi.my
SUMMARY:Kelas E-Pembelajaran / Softskill / KDB
DESCRIPTION:  \nHari : Setiap Ahad \nMasa : 10.00 pagi – 12.00 tengahari \nPeserta : Pelajar Sekolah \nModul 1 : Laman web pembelajaran interaktif\, kuiz online dan permainan online.Modul 2 : SoftskillModul 3 : Taklimat Klik Dengan Bijak dan tayangan video \n  \nKelas adalah percuma kepada semua ahli NADI Felda Mempaga 3. \n(Terhad kepada 10 orang peserta sahaja bagi setiap sesi)
URL:https://feldamempaga3.nadi.my/event/kelas-e-pembelajaran-softskill-kdb-18/
LOCATION:NADI Felda Mempaga 3\, NADI Felda Mempaga 3
CATEGORIES:DEFAULT
END:VEVENT
END:VCALENDAR