BEGIN:VCALENDAR
VERSION:2.0
PRODID:-//NADI Felda Mempaga 3 - ECPv6.15.13.1//NONSGML v1.0//EN
CALSCALE:GREGORIAN
METHOD:PUBLISH
X-WR-CALNAME:NADI Felda Mempaga 3
X-ORIGINAL-URL:https://feldamempaga3.nadi.my
X-WR-CALDESC:Events for NADI Felda Mempaga 3
REFRESH-INTERVAL;VALUE=DURATION:PT1H
X-Robots-Tag:noindex
X-PUBLISHED-TTL:PT1H
BEGIN:VTIMEZONE
TZID:Asia/Kuala_Lumpur
BEGIN:STANDARD
TZOFFSETFROM:+0800
TZOFFSETTO:+0800
TZNAME:+08
DTSTART:20240101T000000
END:STANDARD
END:VTIMEZONE
BEGIN:VTIMEZONE
TZID:UTC
BEGIN:STANDARD
TZOFFSETFROM:+0000
TZOFFSETTO:+0000
TZNAME:UTC
DTSTART:20240101T000000
END:STANDARD
END:VTIMEZONE
BEGIN:VTIMEZONE
TZID:UTC
BEGIN:STANDARD
TZOFFSETFROM:+0000
TZOFFSETTO:+0000
TZNAME:UTC
DTSTART:20230101T000000
END:STANDARD
END:VTIMEZONE
BEGIN:VEVENT
DTSTART;TZID=Asia/Kuala_Lumpur:20250309T100000
DTEND;TZID=Asia/Kuala_Lumpur:20250309T120000
DTSTAMP:20260422T093605
CREATED:20250225T101031Z
LAST-MODIFIED:20250225T101031Z
UID:3249-1741514400-1741521600@feldamempaga3.nadi.my
SUMMARY:Kelas E-Pembelajaran / Softskill / KDB
DESCRIPTION:Kelas E-Pembelajaran / Softskill / KDB \nHari : Setiap Ahad \nMasa : 10.00 pagi – 12.00 tengahari \nPeserta : Pelajar Sekolah \nModul 1 : Laman web pembelajaran interaktif\, kuiz online dan permainan online.\nModul 2 : Softskill\nModul 3 : Taklimat Klik Dengan Bijak dan tayangan video \nKelas adalah percuma kepada semua ahli NADI Felda Mempaga 3. \n(Terhad kepada 10 orang peserta sahaja bagi setiap sesi)
URL:https://feldamempaga3.nadi.my/event/kelas-e-pembelajaran-softskill-kdb-36/
LOCATION:NADI Felda Mempaga 3\, NADI Felda Mempaga 3
CATEGORIES:DEFAULT
END:VEVENT
BEGIN:VEVENT
DTSTART;TZID=Asia/Kuala_Lumpur:20250308T100000
DTEND;TZID=Asia/Kuala_Lumpur:20250308T120000
DTSTAMP:20260422T093605
CREATED:20250225T100934Z
LAST-MODIFIED:20250225T100934Z
UID:3247-1741428000-1741435200@feldamempaga3.nadi.my
SUMMARY:Kelas Asas Komputer / ICT / Stem IOT
DESCRIPTION:Kelas Asas Komputer / ICT / Stem IOT \nHari : Setiap Sabtu \nMasa : 10.00 pagi – 12.00 tengahari \nPeserta : Pelajar Sekolah \nModul 1 : Microsoft Word\, Excel\, Power Point dan Publisher \nModul 2 : STEM IoT \nKelas adalah percuma kepada semua ahli NADI Felda Mempaga 3. \n(Terhad kepada 10 orang peserta sahaja bagi setiap sesi)
URL:https://feldamempaga3.nadi.my/event/kelas-asas-komputer-ict-stem-iot-36/
LOCATION:NADI Felda Mempaga 3\, NADI Felda Mempaga 3
CATEGORIES:DEFAULT
END:VEVENT
BEGIN:VEVENT
DTSTART;TZID=UTC:20250214T093000
DTEND;TZID=UTC:20250214T120000
DTSTAMP:20260422T093605
CREATED:20250204T193700Z
LAST-MODIFIED:20250225T100823Z
UID:3193-1739525400-1739534400@feldamempaga3.nadi.my
SUMMARY:Kelas Keusahawanan
DESCRIPTION:Kelas Keusahawanan \nHari : Setiap Jumaat \nMasa : 9.30 pagi – 12.00 tengahari \nPeserta : Usahawan \nModul : Shopee\, Facebook\, Instagram\, Email\, Perbankan Internet dll. \nKelas adalah percuma kepada semua ahli NADI Felda Mempaga 3. \n(Terhad kepada 10 orang peserta sahaja bagi setiap sesi) \n 
URL:https://feldamempaga3.nadi.my/event/kelas-keusahawanan-193/
LOCATION:NADI Felda Mempaga 3\, NADI Felda Mempaga 3
CATEGORIES:DEFAULT
END:VEVENT
BEGIN:VEVENT
DTSTART;TZID=Asia/Kuala_Lumpur:20250208T100000
DTEND;TZID=Asia/Kuala_Lumpur:20250208T120000
DTSTAMP:20260422T093605
CREATED:20250225T095013Z
LAST-MODIFIED:20250225T095030Z
UID:3243-1739008800-1739016000@feldamempaga3.nadi.my
SUMMARY:Kelas Asas Komputer / ICT / Stem IOT
DESCRIPTION:Kelas Asas Komputer / ICT / Stem IOT \nHari : Setiap Sabtu \nMasa : 10.00 pagi – 12.00 tengahari \nPeserta : Pelajar Sekolah \nModul 1 : Microsoft Word\, Excel\, Power Point dan Publisher \nModul 2 : STEM IoT \nKelas adalah percuma kepada semua ahli NADI Felda Mempaga 3. \n(Terhad kepada 10 orang peserta sahaja bagi setiap sesi)
URL:https://feldamempaga3.nadi.my/event/kelas-asas-komputer-ict-stem-iot-35/
LOCATION:NADI Felda Mempaga 3\, NADI Felda Mempaga 3
CATEGORIES:DEFAULT
END:VEVENT
BEGIN:VEVENT
DTSTART;TZID=UTC:20250112T100000
DTEND;TZID=UTC:20250112T120000
DTSTAMP:20260422T093605
CREATED:20250103T191554Z
LAST-MODIFIED:20250103T230025Z
UID:3123-1736676000-1736683200@feldamempaga3.nadi.my
SUMMARY:Kelas E-Pembelajaran / Softskill / KDB
DESCRIPTION:Kelas E-Pembelajaran / Softskill / KDB \nHari : Setiap Ahad \nMasa : 10.00 pagi – 12.00 tengahari \nPeserta : Pelajar Sekolah \nModul 1 : Laman web pembelajaran interaktif\, kuiz online dan permainan online.\nModul 2 : Softskill\nModul 3 : Taklimat Klik Dengan Bijak dan tayangan video \nKelas adalah percuma kepada semua ahli NADI Felda Mempaga 3. \n(Terhad kepada 10 orang peserta sahaja bagi setiap sesi)
URL:https://feldamempaga3.nadi.my/event/kelas-e-pembelajaran-softskill-kdb-33/
LOCATION:NADI Felda Mempaga 3\, NADI Felda Mempaga 3
CATEGORIES:DEFAULT
END:VEVENT
BEGIN:VEVENT
DTSTART;TZID=UTC:20250111T100000
DTEND;TZID=UTC:20250111T120000
DTSTAMP:20260422T093605
CREATED:20250103T191442Z
LAST-MODIFIED:20250103T230053Z
UID:3121-1736589600-1736596800@feldamempaga3.nadi.my
SUMMARY:Kelas Asas Komputer / ICT / Stem IOT
DESCRIPTION:Kelas Asas Komputer / ICT / Stem IOT \nHari : Setiap Sabtu \nMasa : 10.00 pagi – 12.00 tengahari \nPeserta : Pelajar Sekolah \nModul 1 : Microsoft Word\, Excel\, Power Point dan Publisher \nModul 2 : STEM IoT \nKelas adalah percuma kepada semua ahli NADI Felda Mempaga 3. \n(Terhad kepada 10 orang peserta sahaja bagi setiap sesi)
URL:https://feldamempaga3.nadi.my/event/kelas-asas-komputer-ict-stem-iot-32/
LOCATION:NADI Felda Mempaga 3\, NADI Felda Mempaga 3
CATEGORIES:DEFAULT
END:VEVENT
BEGIN:VEVENT
DTSTART;TZID=UTC:20250110T093000
DTEND;TZID=UTC:20250110T120000
DTSTAMP:20260422T093605
CREATED:20250103T191800Z
LAST-MODIFIED:20250103T230106Z
UID:3125-1736501400-1736510400@feldamempaga3.nadi.my
SUMMARY:Kelas Keusahawanan
DESCRIPTION:Kelas Keusahawanan \nHari : Setiap Jumaat \nMasa : 9.30 pagi – 12.00 tengahari \nPeserta : Usahawan \nModul : Shopee\, Facebook\, Instagram\, Email\, Perbankan Internet dll. \nKelas adalah percuma kepada semua ahli NADI Felda Mempaga 3. \n(Terhad kepada 10 orang peserta sahaja bagi setiap sesi)
URL:https://feldamempaga3.nadi.my/event/kelas-keusahawanan-192/
LOCATION:NADI Felda Mempaga 3\, NADI Felda Mempaga 3
CATEGORIES:DEFAULT
END:VEVENT
BEGIN:VEVENT
DTSTART;TZID=UTC:20241027T100000
DTEND;TZID=UTC:20241027T120000
DTSTAMP:20260422T093605
CREATED:20241008T190546Z
LAST-MODIFIED:20241008T190546Z
UID:3048-1730023200-1730030400@feldamempaga3.nadi.my
SUMMARY:Kelas E-Pembelajaran / Softskill / KDB
DESCRIPTION:Hari : Setiap Ahad \nMasa : 10.00 pagi – 12.00 tengahari \nPeserta : Pelajar Sekolah \nModul 1 : Laman web pembelajaran interaktif\, kuiz online dan permainan online.Modul 2 : SoftskillModul 3 : Taklimat Klik Dengan Bijak dan tayangan video \n  \nKelas adalah percuma kepada semua ahli NADI Felda Mempaga 3. \n(Terhad kepada 10 orang peserta sahaja bagi setiap sesi)
URL:https://feldamempaga3.nadi.my/event/kelas-e-pembelajaran-softskill-kdb-32/
LOCATION:NADI Felda Mempaga 3\, NADI Felda Mempaga 3
CATEGORIES:DEFAULT
END:VEVENT
BEGIN:VEVENT
DTSTART;TZID=UTC:20241026T090000
DTEND;TZID=UTC:20241026T170000
DTSTAMP:20260422T093605
CREATED:20241008T190917Z
LAST-MODIFIED:20241008T190917Z
UID:3049-1729933200-1729962000@feldamempaga3.nadi.my
SUMMARY:Bengkel Robotik @NADI
DESCRIPTION:Tarikh : 26/10/2024 \nHari : Sabtu \nMasa : 9.00 pagi – 5.00 petang \nPeserta : Pelajar Sekolah (10 hingga 14 tahun) \nBengkel adalah percuma kepada semua ahli NADI Felda Mempaga 3. \n(Terhad kepada 10 orang peserta sahaja bagi setiap sesi)
URL:https://feldamempaga3.nadi.my/event/bengkel-robotik-nadi/
LOCATION:NADI Felda Mempaga 3\, NADI Felda Mempaga 3
CATEGORIES:DEFAULT
END:VEVENT
BEGIN:VEVENT
DTSTART;TZID=UTC:20241020T100000
DTEND;TZID=UTC:20241020T120000
DTSTAMP:20260422T093605
CREATED:20241008T190546Z
LAST-MODIFIED:20241008T190546Z
UID:3047-1729418400-1729425600@feldamempaga3.nadi.my
SUMMARY:Kelas E-Pembelajaran / Softskill / KDB
DESCRIPTION:Hari : Setiap Ahad \nMasa : 10.00 pagi – 12.00 tengahari \nPeserta : Pelajar Sekolah \nModul 1 : Laman web pembelajaran interaktif\, kuiz online dan permainan online.Modul 2 : SoftskillModul 3 : Taklimat Klik Dengan Bijak dan tayangan video \n  \nKelas adalah percuma kepada semua ahli NADI Felda Mempaga 3. \n(Terhad kepada 10 orang peserta sahaja bagi setiap sesi)
URL:https://feldamempaga3.nadi.my/event/kelas-e-pembelajaran-softskill-kdb-31/
LOCATION:NADI Felda Mempaga 3\, NADI Felda Mempaga 3
CATEGORIES:DEFAULT
END:VEVENT
BEGIN:VEVENT
DTSTART;TZID=UTC:20241019T100000
DTEND;TZID=UTC:20241019T120000
DTSTAMP:20260422T093605
CREATED:20241008T190416Z
LAST-MODIFIED:20241008T190416Z
UID:3045-1729332000-1729339200@feldamempaga3.nadi.my
SUMMARY:Kelas Asas Komputer / ICT / Stem IOT
DESCRIPTION:Hari : Setiap Sabtu \nMasa : 10.00 pagi – 12.00 tengahari \nPeserta : Pelajar Sekolah \nModul 1 : Microsoft Word\, Excel\, Power Point dan Publisher \nModul 2 : STEM IoT \n  \nKelas adalah percuma kepada semua ahli NADI Felda Mempaga 3. \n(Terhad kepada 10 orang peserta sahaja bagi setiap sesi)
URL:https://feldamempaga3.nadi.my/event/kelas-asas-komputer-ict-stem-iot-31/
LOCATION:NADI Felda Mempaga 3\, NADI Felda Mempaga 3
CATEGORIES:DEFAULT
END:VEVENT
BEGIN:VEVENT
DTSTART;TZID=UTC:20241013T100000
DTEND;TZID=UTC:20241013T120000
DTSTAMP:20260422T093605
CREATED:20241008T190546Z
LAST-MODIFIED:20241008T190546Z
UID:3046-1728813600-1728820800@feldamempaga3.nadi.my
SUMMARY:Kelas E-Pembelajaran / Softskill / KDB
DESCRIPTION:Hari : Setiap Ahad \nMasa : 10.00 pagi – 12.00 tengahari \nPeserta : Pelajar Sekolah \nModul 1 : Laman web pembelajaran interaktif\, kuiz online dan permainan online.Modul 2 : SoftskillModul 3 : Taklimat Klik Dengan Bijak dan tayangan video \n  \nKelas adalah percuma kepada semua ahli NADI Felda Mempaga 3. \n(Terhad kepada 10 orang peserta sahaja bagi setiap sesi)
URL:https://feldamempaga3.nadi.my/event/kelas-e-pembelajaran-softskill-kdb-30/
LOCATION:NADI Felda Mempaga 3\, NADI Felda Mempaga 3
CATEGORIES:DEFAULT
END:VEVENT
BEGIN:VEVENT
DTSTART;TZID=UTC:20241012T100000
DTEND;TZID=UTC:20241012T120000
DTSTAMP:20260422T093605
CREATED:20241008T190416Z
LAST-MODIFIED:20241008T190416Z
UID:3044-1728727200-1728734400@feldamempaga3.nadi.my
SUMMARY:Kelas Asas Komputer / ICT / Stem IOT
DESCRIPTION:Hari : Setiap Sabtu \nMasa : 10.00 pagi – 12.00 tengahari \nPeserta : Pelajar Sekolah \nModul 1 : Microsoft Word\, Excel\, Power Point dan Publisher \nModul 2 : STEM IoT \n  \nKelas adalah percuma kepada semua ahli NADI Felda Mempaga 3. \n(Terhad kepada 10 orang peserta sahaja bagi setiap sesi)
URL:https://feldamempaga3.nadi.my/event/kelas-asas-komputer-ict-stem-iot-30/
LOCATION:NADI Felda Mempaga 3\, NADI Felda Mempaga 3
CATEGORIES:DEFAULT
END:VEVENT
BEGIN:VEVENT
DTSTART;TZID=UTC:20240930T100000
DTEND;TZID=UTC:20240930T160000
DTSTAMP:20260422T093605
CREATED:20240921T194905Z
LAST-MODIFIED:20240921T194905Z
UID:3042-1727690400-1727712000@feldamempaga3.nadi.my
SUMMARY:Program Cashless Society
DESCRIPTION:Program Cashless ini diadakan bagi meningkatkan tahap kesedaran komuniti tempatan dan usahawan tentang manfaat penggunaan bayaran tanpa tunai. \nProgram adalah terbuka kepada komuniti setempat. Pelbagai aktiviti menarik dijalankan\, terdapat juga gerai jualan usahawan NADI.
URL:https://feldamempaga3.nadi.my/event/program-cashless-society/
LOCATION:NADI Felda Mempaga 3\, NADI Felda Mempaga 3
CATEGORIES:DEFAULT
END:VEVENT
BEGIN:VEVENT
DTSTART;TZID=UTC:20240929T100000
DTEND;TZID=UTC:20240929T120000
DTSTAMP:20260422T093605
CREATED:20240907T043851Z
LAST-MODIFIED:20240907T043851Z
UID:3037-1727604000-1727611200@feldamempaga3.nadi.my
SUMMARY:Kelas E-Pembelajaran / Softskill / KDB
DESCRIPTION:Hari : Setiap Ahad \nMasa : 10.00 pagi – 12.00 tengahari \nPeserta : Pelajar Sekolah \nModul 1 : Laman web pembelajaran interaktif\, kuiz online dan permainan online.Modul 2 : SoftskillModul 3 : Taklimat Klik Dengan Bijak dan tayangan video \nKelas adalah percuma kepada semua ahli NADI Felda Mempaga 3. \n(Terhad kepada 20 orang peserta sahaja bagi setiap sesi)
URL:https://feldamempaga3.nadi.my/event/kelas-e-pembelajaran-softskill-kdb-29/
LOCATION:NADI Felda Mempaga 3\, NADI Felda Mempaga 3
CATEGORIES:DEFAULT
END:VEVENT
BEGIN:VEVENT
DTSTART;TZID=UTC:20240928T100000
DTEND;TZID=UTC:20240928T120000
DTSTAMP:20260422T093605
CREATED:20240907T043700Z
LAST-MODIFIED:20240907T043700Z
UID:3033-1727517600-1727524800@feldamempaga3.nadi.my
SUMMARY:Kelas Asas Komputer / ICT / STEM IoT
DESCRIPTION:Hari : Setiap Sabtu \nMasa : 10.00 pagi – 12.00 tengahari \nPeserta : Pelajar Sekolah \nModul 1 : Microsoft Word\, Excel\, Power Point dan Publisher \nModul 2 : STEM IoT \nKelas adalah percuma kepada semua ahli NADI Felda Mempaga 3. \n(Terhad kepada 20 orang peserta sahaja bagi setiap sesi)
URL:https://feldamempaga3.nadi.my/event/kelas-asas-komputer-ict-stem-iot-29/
LOCATION:NADI Felda Mempaga 3\, NADI Felda Mempaga 3
CATEGORIES:DEFAULT
END:VEVENT
BEGIN:VEVENT
DTSTART;TZID=UTC:20240927T093000
DTEND;TZID=UTC:20240927T120000
DTSTAMP:20260422T093605
CREATED:20240907T044147Z
LAST-MODIFIED:20240907T044147Z
UID:3041-1727429400-1727438400@feldamempaga3.nadi.my
SUMMARY:Kelas Keusahawanan
DESCRIPTION:Hari : Setiap Jumaat \nMasa : 9.30 pagi – 12.00 tengahari \nPeserta : Usahawan \nModul : Shopee\, Facebook\, Instagram\, Email\, Perbankan Internet dll. \nKelas adalah percuma kepada semua ahli NADI Felda Mempaga 3. \n(Terhad kepada 10 orang peserta sahaja bagi setiap sesi)
URL:https://feldamempaga3.nadi.my/event/kelas-keusahawanan-191/
LOCATION:NADI Felda Mempaga 3\, NADI Felda Mempaga 3
CATEGORIES:DEFAULT
END:VEVENT
BEGIN:VEVENT
DTSTART;TZID=UTC:20240922T100000
DTEND;TZID=UTC:20240922T120000
DTSTAMP:20260422T093605
CREATED:20240907T043851Z
LAST-MODIFIED:20240907T043851Z
UID:3036-1726999200-1727006400@feldamempaga3.nadi.my
SUMMARY:Kelas E-Pembelajaran / Softskill / KDB
DESCRIPTION:Hari : Setiap Ahad \nMasa : 10.00 pagi – 12.00 tengahari \nPeserta : Pelajar Sekolah \nModul 1 : Laman web pembelajaran interaktif\, kuiz online dan permainan online.Modul 2 : SoftskillModul 3 : Taklimat Klik Dengan Bijak dan tayangan video \nKelas adalah percuma kepada semua ahli NADI Felda Mempaga 3. \n(Terhad kepada 20 orang peserta sahaja bagi setiap sesi)
URL:https://feldamempaga3.nadi.my/event/kelas-e-pembelajaran-softskill-kdb-28/
LOCATION:NADI Felda Mempaga 3\, NADI Felda Mempaga 3
CATEGORIES:DEFAULT
END:VEVENT
BEGIN:VEVENT
DTSTART;TZID=UTC:20240921T150000
DTEND;TZID=UTC:20240921T173000
DTSTAMP:20260422T093605
CREATED:20240921T195225Z
LAST-MODIFIED:20240921T195225Z
UID:3043-1726930800-1726939800@feldamempaga3.nadi.my
SUMMARY:Tournament ESport Mobile Legend Peringkat NADI
DESCRIPTION:Tournament ESport Mobile Legend Peringkat NADI ini diadakan untuk mencari pasukan yang akan mewakili NADI ke peringkat negeri. \nPenyertaan adalah percuma. Peserta adalah ahli NADI atau perlu mendaftar sebagai ahli NADI untuk menyertai pertandingan ini.
URL:https://feldamempaga3.nadi.my/event/tournament-esport-mobile-legend-peringkat-nadi/
LOCATION:NADI Felda Mempaga 3\, NADI Felda Mempaga 3
CATEGORIES:DEFAULT
END:VEVENT
BEGIN:VEVENT
DTSTART;TZID=UTC:20240921T100000
DTEND;TZID=UTC:20240921T120000
DTSTAMP:20260422T093605
CREATED:20240907T043700Z
LAST-MODIFIED:20240907T043700Z
UID:3032-1726912800-1726920000@feldamempaga3.nadi.my
SUMMARY:Kelas Asas Komputer / ICT / STEM IoT
DESCRIPTION:Hari : Setiap Sabtu \nMasa : 10.00 pagi – 12.00 tengahari \nPeserta : Pelajar Sekolah \nModul 1 : Microsoft Word\, Excel\, Power Point dan Publisher \nModul 2 : STEM IoT \nKelas adalah percuma kepada semua ahli NADI Felda Mempaga 3. \n(Terhad kepada 20 orang peserta sahaja bagi setiap sesi)
URL:https://feldamempaga3.nadi.my/event/kelas-asas-komputer-ict-stem-iot-28/
LOCATION:NADI Felda Mempaga 3\, NADI Felda Mempaga 3
CATEGORIES:DEFAULT
END:VEVENT
BEGIN:VEVENT
DTSTART;TZID=UTC:20240920T093000
DTEND;TZID=UTC:20240920T120000
DTSTAMP:20260422T093605
CREATED:20240907T044147Z
LAST-MODIFIED:20240907T044147Z
UID:3040-1726824600-1726833600@feldamempaga3.nadi.my
SUMMARY:Kelas Keusahawanan
DESCRIPTION:Hari : Setiap Jumaat \nMasa : 9.30 pagi – 12.00 tengahari \nPeserta : Usahawan \nModul : Shopee\, Facebook\, Instagram\, Email\, Perbankan Internet dll. \nKelas adalah percuma kepada semua ahli NADI Felda Mempaga 3. \n(Terhad kepada 10 orang peserta sahaja bagi setiap sesi)
URL:https://feldamempaga3.nadi.my/event/kelas-keusahawanan-190/
LOCATION:NADI Felda Mempaga 3\, NADI Felda Mempaga 3
CATEGORIES:DEFAULT
END:VEVENT
BEGIN:VEVENT
DTSTART;TZID=UTC:20240915T100000
DTEND;TZID=UTC:20240915T120000
DTSTAMP:20260422T093605
CREATED:20240907T043851Z
LAST-MODIFIED:20240907T043851Z
UID:3035-1726394400-1726401600@feldamempaga3.nadi.my
SUMMARY:Kelas E-Pembelajaran / Softskill / KDB
DESCRIPTION:Hari : Setiap Ahad \nMasa : 10.00 pagi – 12.00 tengahari \nPeserta : Pelajar Sekolah \nModul 1 : Laman web pembelajaran interaktif\, kuiz online dan permainan online.Modul 2 : SoftskillModul 3 : Taklimat Klik Dengan Bijak dan tayangan video \nKelas adalah percuma kepada semua ahli NADI Felda Mempaga 3. \n(Terhad kepada 20 orang peserta sahaja bagi setiap sesi)
URL:https://feldamempaga3.nadi.my/event/kelas-e-pembelajaran-softskill-kdb-27/
LOCATION:NADI Felda Mempaga 3\, NADI Felda Mempaga 3
CATEGORIES:DEFAULT
END:VEVENT
BEGIN:VEVENT
DTSTART;TZID=UTC:20240914T100000
DTEND;TZID=UTC:20240914T120000
DTSTAMP:20260422T093605
CREATED:20240907T043700Z
LAST-MODIFIED:20240907T043700Z
UID:3031-1726308000-1726315200@feldamempaga3.nadi.my
SUMMARY:Kelas Asas Komputer / ICT / STEM IoT
DESCRIPTION:Hari : Setiap Sabtu \nMasa : 10.00 pagi – 12.00 tengahari \nPeserta : Pelajar Sekolah \nModul 1 : Microsoft Word\, Excel\, Power Point dan Publisher \nModul 2 : STEM IoT \nKelas adalah percuma kepada semua ahli NADI Felda Mempaga 3. \n(Terhad kepada 20 orang peserta sahaja bagi setiap sesi)
URL:https://feldamempaga3.nadi.my/event/kelas-asas-komputer-ict-stem-iot-27/
LOCATION:NADI Felda Mempaga 3\, NADI Felda Mempaga 3
CATEGORIES:DEFAULT
END:VEVENT
BEGIN:VEVENT
DTSTART;TZID=UTC:20240913T093000
DTEND;TZID=UTC:20240913T120000
DTSTAMP:20260422T093605
CREATED:20240907T044147Z
LAST-MODIFIED:20240907T044147Z
UID:3039-1726219800-1726228800@feldamempaga3.nadi.my
SUMMARY:Kelas Keusahawanan
DESCRIPTION:Hari : Setiap Jumaat \nMasa : 9.30 pagi – 12.00 tengahari \nPeserta : Usahawan \nModul : Shopee\, Facebook\, Instagram\, Email\, Perbankan Internet dll. \nKelas adalah percuma kepada semua ahli NADI Felda Mempaga 3. \n(Terhad kepada 10 orang peserta sahaja bagi setiap sesi)
URL:https://feldamempaga3.nadi.my/event/kelas-keusahawanan-189/
LOCATION:NADI Felda Mempaga 3\, NADI Felda Mempaga 3
CATEGORIES:DEFAULT
END:VEVENT
BEGIN:VEVENT
DTSTART;TZID=UTC:20240908T100000
DTEND;TZID=UTC:20240908T120000
DTSTAMP:20260422T093605
CREATED:20240907T043851Z
LAST-MODIFIED:20240907T043851Z
UID:3034-1725789600-1725796800@feldamempaga3.nadi.my
SUMMARY:Kelas E-Pembelajaran / Softskill / KDB
DESCRIPTION:Hari : Setiap Ahad \nMasa : 10.00 pagi – 12.00 tengahari \nPeserta : Pelajar Sekolah \nModul 1 : Laman web pembelajaran interaktif\, kuiz online dan permainan online.Modul 2 : SoftskillModul 3 : Taklimat Klik Dengan Bijak dan tayangan video \nKelas adalah percuma kepada semua ahli NADI Felda Mempaga 3. \n(Terhad kepada 20 orang peserta sahaja bagi setiap sesi)
URL:https://feldamempaga3.nadi.my/event/kelas-e-pembelajaran-softskill-kdb-26/
LOCATION:NADI Felda Mempaga 3\, NADI Felda Mempaga 3
CATEGORIES:DEFAULT
END:VEVENT
BEGIN:VEVENT
DTSTART;TZID=UTC:20240907T100000
DTEND;TZID=UTC:20240907T120000
DTSTAMP:20260422T093605
CREATED:20240907T043700Z
LAST-MODIFIED:20240907T043700Z
UID:3030-1725703200-1725710400@feldamempaga3.nadi.my
SUMMARY:Kelas Asas Komputer / ICT / STEM IoT
DESCRIPTION:Hari : Setiap Sabtu \nMasa : 10.00 pagi – 12.00 tengahari \nPeserta : Pelajar Sekolah \nModul 1 : Microsoft Word\, Excel\, Power Point dan Publisher \nModul 2 : STEM IoT \nKelas adalah percuma kepada semua ahli NADI Felda Mempaga 3. \n(Terhad kepada 20 orang peserta sahaja bagi setiap sesi)
URL:https://feldamempaga3.nadi.my/event/kelas-asas-komputer-ict-stem-iot-26/
LOCATION:NADI Felda Mempaga 3\, NADI Felda Mempaga 3
CATEGORIES:DEFAULT
END:VEVENT
BEGIN:VEVENT
DTSTART;TZID=UTC:20240906T093000
DTEND;TZID=UTC:20240906T120000
DTSTAMP:20260422T093605
CREATED:20240907T044147Z
LAST-MODIFIED:20240907T044147Z
UID:3038-1725615000-1725624000@feldamempaga3.nadi.my
SUMMARY:Kelas Keusahawanan
DESCRIPTION:Hari : Setiap Jumaat \nMasa : 9.30 pagi – 12.00 tengahari \nPeserta : Usahawan \nModul : Shopee\, Facebook\, Instagram\, Email\, Perbankan Internet dll. \nKelas adalah percuma kepada semua ahli NADI Felda Mempaga 3. \n(Terhad kepada 10 orang peserta sahaja bagi setiap sesi)
URL:https://feldamempaga3.nadi.my/event/kelas-keusahawanan-188/
LOCATION:NADI Felda Mempaga 3\, NADI Felda Mempaga 3
CATEGORIES:DEFAULT
END:VEVENT
BEGIN:VEVENT
DTSTART;TZID=UTC:20240830T093000
DTEND;TZID=UTC:20240830T120000
DTSTAMP:20260422T093605
CREATED:20240806T015546Z
LAST-MODIFIED:20240806T015546Z
UID:3029-1725010200-1725019200@feldamempaga3.nadi.my
SUMMARY:Kelas Keusahawanan
DESCRIPTION:Hari : Setiap Jumaat \nMasa : 9.30 pagi – 12.00 tengahari \nPeserta : Usahawan \nModul : Shopee\, Facebook\, Instagram\, Email\, Perbankan Internet dll. \nKelas adalah percuma kepada semua ahli NADI Felda Mempaga 3. \n(Terhad kepada 10 orang peserta sahaja bagi setiap sesi) \nKelas adalah percuma kepada semua ahli NADI Felda Mempaga 3. \n(Terhad kepada 10 orang peserta sahaja bagi setiap sesi)
URL:https://feldamempaga3.nadi.my/event/kelas-keusahawanan-187/
LOCATION:NADI Felda Mempaga 3\, NADI Felda Mempaga 3
CATEGORIES:DEFAULT
END:VEVENT
BEGIN:VEVENT
DTSTART;TZID=UTC:20240825T100000
DTEND;TZID=UTC:20240825T120000
DTSTAMP:20260422T093605
CREATED:20240806T015423Z
LAST-MODIFIED:20240806T015423Z
UID:3025-1724580000-1724587200@feldamempaga3.nadi.my
SUMMARY:Kelas E-Pembelajaran / Softskill / KDB
DESCRIPTION:Hari : Setiap Ahad \nMasa : 10.00 pagi – 12.00 tengahari \nPeserta : Pelajar Sekolah \nModul 1 : Laman web pembelajaran interaktif\, kuiz online dan permainan online.Modul 2 : SoftskillModul 3 : Taklimat Klik Dengan Bijak dan tayangan video \n  \nKelas adalah percuma kepada semua ahli NADI Felda Mempaga 3. \n(Terhad kepada 10 orang peserta sahaja bagi setiap sesi)
URL:https://feldamempaga3.nadi.my/event/kelas-e-pembelajaran-softskill-kdb-25/
LOCATION:NADI Felda Mempaga 3\, NADI Felda Mempaga 3
CATEGORIES:DEFAULT
END:VEVENT
BEGIN:VEVENT
DTSTART;TZID=UTC:20240824T100000
DTEND;TZID=UTC:20240824T120000
DTSTAMP:20260422T093605
CREATED:20240806T015310Z
LAST-MODIFIED:20240806T015310Z
UID:3022-1724493600-1724500800@feldamempaga3.nadi.my
SUMMARY:Kelas Asas Komputer / ICT / Stem IOT
DESCRIPTION:Hari : Setiap Sabtu \nMasa : 10.00 pagi – 12.00 tengahari \nPeserta : Pelajar Sekolah \nModul 1 : Microsoft Word\, Excel\, Power Point dan Publisher \nModul 2 : STEM IoT \n  \nKelas adalah percuma kepada semua ahli NADI Felda Mempaga 3. \n(Terhad kepada 20 orang peserta sahaja bagi setiap sesi)
URL:https://feldamempaga3.nadi.my/event/kelas-asas-komputer-ict-stem-iot-25/
LOCATION:NADI Felda Mempaga 3\, NADI Felda Mempaga 3
CATEGORIES:DEFAULT
END:VEVENT
END:VCALENDAR